BEGIN:VCALENDAR
PRODID:NingEventWidget-v1
VERSION:2.0
METHOD:PUBLISH
BEGIN:VTIMEZONE
TZID:America/Los_Angeles
X-LIC-LOCATION:America/Los_Angeles
BEGIN:DAYLIGHT
TZOFFSETFROM:-0800
TZOFFSETTO:-0700
TZNAME:PDT
DTSTART:19700308T020000
RRULE:FREQ=YEARLY;BYMONTH=3;BYDAY=2SU
END:DAYLIGHT
BEGIN:STANDARD
TZOFFSETFROM:-0700
TZOFFSETTO:-0800
TZNAME:PST
DTSTART:19701101T020000
RRULE:FREQ=YEARLY;BYMONTH=11;BYDAY=1SU
END:STANDARD
END:VTIMEZONE
BEGIN:VEVENT
UID:5727801:Event:59928
DTSTAMP:20260421T133101Z
SUMMARY:MULTIFAMILY FINANCING FOR NEW INVESTORS WITH JOHN BRICKSON
DESCRIPTION:Join us as our guest presenter, John Brickson provide a br
 ief overview of financing options for multifamily investors. He will g
 o in depth on financing multifamily investments through Freddie Mac’
 s Small Balance Loan Program.\nNOT ALL LOANS ARE THE SAME - Discover w
 hich financing sources are the best fit for your investment.\nTHE FANN
 IE & FREDDIE FACTOR - Learn why the financing options available make m
 ultifamily the best asset class in real estate.\nFINANCING DRIVES RETU
 RNS - The loan funds 75% to 80% of your investment and can make or bre
 ak your deal.\n------------------------------------ Tuesday, April 23r
 d, 2019 6PM Pacific\nRegister Here: https://multifamilyu.com/mf-financ
 ing\n------------------------------------\nWhat You Will Learn:\n- The
  three most common loan sources for multifamily investing and when and
  why to finance with these sources - The BEST financing source for new
  multifamily investors and how to qualify for financing with this sour
 ce.\n- Which markets qualify for the lowest pricing and highest loan p
 roceeds.\n- How to obtain loan terms BEFORE you submit your offer on p
 roperty.\n- The timeline for closing your loan – from when you recei
 ve the Offering Memorandum from the listing broker to funding.\n------
 ------------------------------ Tuesday, April 23rd, 2019 6PM Pacific\n
 Register Here: https://multifamilyu.com/mf-financing\n----------------
 --------------------\nMEET OUR PRESENTER: John Brickson is based in Da
 llas, TX and has more than seven years of experience in commercial rea
 l estate financing and investing. In his current role with Old Capital
 , John is actively involved in financing commercial real estate assets
  in Texas and across the country for both new and experienced investor
 s.\nJohn has experience working with a variety of Commercial Real Esta
 te lenders, including banks, life companies, Fannie Mae, Freddie Mac, 
 debt funds, and CMBS conduit lenders. Prior to joining Old Capital in 
 February of 2018, John was based in Dallas and originated new commerci
 al real estate debt investments at two different national real estate 
 funds.\nJohn began his career in commercial real estate financing at B
 MO Harris Bank in Chicago, where he completed the Bank’s formal cred
 it training program. Originally from Kansas City, John earned a B.A in
  Economics from DePauw University.\n\nFor more information visit https
 ://realty411mag.com/events/multifamily-financing-for-new-investors-wit
 h-john-brickson-2
DTSTART;TZID=America/Los_Angeles:20190423T180000
DTEND;TZID=America/Los_Angeles:20190423T190000
CATEGORIES:online, webinar
LOCATION:https://multifamilyu.com/mf-financing
WEBSITE:https://multifamilyu.com/mf-financing
URL:https://multifamilyu.com/mf-financing
CONTACT:
ORGANIZER;CN="Neal Bawa":https://realty411mag.com/profile/NealBawa
ATTACH;FMTTYPE="image/jpeg":https://storage.ning.com/topology/rest/1.0
 /file/get/1047726824?profile=original
ATTENDEE;ROLE=REQ-PARTICIPANT;PARTSTAT=ACCEPTED;RSVP=TRUE;CN="Neal Baw
 a":https://realty411mag.com/profile/NealBawa
END:VEVENT
END:VCALENDAR
