BEGIN:VCALENDAR
PRODID:NingEventWidget-v1
VERSION:2.0
METHOD:PUBLISH
BEGIN:VTIMEZONE
TZID:America/Los_Angeles
X-LIC-LOCATION:America/Los_Angeles
BEGIN:DAYLIGHT
TZOFFSETFROM:-0800
TZOFFSETTO:-0700
TZNAME:PDT
DTSTART:19700308T020000
RRULE:FREQ=YEARLY;BYMONTH=3;BYDAY=2SU
END:DAYLIGHT
BEGIN:STANDARD
TZOFFSETFROM:-0700
TZOFFSETTO:-0800
TZNAME:PST
DTSTART:19701101T020000
RRULE:FREQ=YEARLY;BYMONTH=11;BYDAY=1SU
END:STANDARD
END:VTIMEZONE
BEGIN:VEVENT
UID:5727801:Event:60603
DTSTAMP:20260421T111531Z
SUMMARY:MFIN: THE ULTIMATE CONFERENCE FOR MULTIFAMILY INVESTING AND NE
 TWORKING
DESCRIPTION:An inspiring lineup of speakers with proven track records 
 for success. Learn from the best and apply everything directly to your
  business!\nJune 22, 7:30 AM Marina del Rey Marriott\n4100 Admiralty W
 ay, Marina del Rey, California 90292\nUse code NEAL to get $25 off GET
  YOUR TICKETS HERE: www.mfinvestornetwork.com\nWHAT CAN MFIN DO FOR YO
 U?\n- Be inspired to take action! We'll provide the tools needed to ac
 hieve your goals. - Escape the status quo and learn how to reach finan
 cial freedom through multifamily investing.\n- Learn the secrets of su
 ccess from top industry experts. You'll get a behind-the-scenes look a
 t how syndicators built their businesses.\n- Meet other like-minded in
 vestors and vendors to expand your network.\n- Ask questions and recei
 ve feedback from others in a pitch-free, learning-centered environment
 .\n- Rest and recharge at a beautiful venue just a short walk from the
  ocean. Invest time and energy in taking care of yourself.\nUse code N
 EAL to get $25 off GET YOUR TICKETS HERE: www.mfinvestornetwork.com\n\
 nFor more information visit https://realty411mag.com/events/mfin-the-u
 ltimate-conference-for-multifamily-investing-and
DTSTART;TZID=America/Los_Angeles:20190622T073000
DTEND;TZID=America/Los_Angeles:20190622T190000
CATEGORIES:live, event
LOCATION:Marina del Rey Marriott
WEBSITE:http://www.mfinvestornetwork.com
URL:http://www.mfinvestornetwork.com
CONTACT:
ORGANIZER;CN="Neal Bawa":https://realty411mag.com/profile/NealBawa
ATTACH;FMTTYPE="image/jpeg":https://storage.ning.com/topology/rest/1.0
 /file/get/1442575377?profile=original
ATTENDEE;ROLE=REQ-PARTICIPANT;PARTSTAT=ACCEPTED;RSVP=TRUE;CN="Neal Baw
 a":https://realty411mag.com/profile/NealBawa
END:VEVENT
END:VCALENDAR
