BEGIN:VCALENDAR
PRODID:NingEventWidget-v1
VERSION:2.0
METHOD:PUBLISH
BEGIN:VTIMEZONE
TZID:America/Los_Angeles
X-LIC-LOCATION:America/Los_Angeles
BEGIN:DAYLIGHT
TZOFFSETFROM:-0800
TZOFFSETTO:-0700
TZNAME:PDT
DTSTART:19700308T020000
RRULE:FREQ=YEARLY;BYMONTH=3;BYDAY=2SU
END:DAYLIGHT
BEGIN:STANDARD
TZOFFSETFROM:-0700
TZOFFSETTO:-0800
TZNAME:PST
DTSTART:19701101T020000
RRULE:FREQ=YEARLY;BYMONTH=11;BYDAY=1SU
END:STANDARD
END:VTIMEZONE
BEGIN:VEVENT
UID:5727801:Event:56519
DTSTAMP:20260421T095226Z
SUMMARY:Maverick Wealth Now
DESCRIPTION:A 3-DAY BOOTCAMP LIKE NONE OTHER... At Maverick Wealth Now
 , we have pulled in experts from across the country who know TRUE WEAL
 TH is possible... WHY?\nTo PROVE to YOU, TRUE WEALTH with HAPPINESS an
 d JOY is possible!\nTo PROVE to YOU, BALANCE in life is achievable\nTo
  PROVE to YOU, YOU TOO can HAVE IT TOO!\nYOU will meet THE MAVERICKS w
 ho have actually done it. AND Now they want to share with you how YOU 
 TOO can accomplish the un-imaginable.\n\nFor more information visit ht
 tps://realty411mag.com/events/maverick-wealth-now
DTSTART;TZID=America/Los_Angeles:20181102T090000
DTEND;TZID=America/Los_Angeles:20181104T180000
CATEGORIES:wealth, building, seminar
LOCATION:Marriott LAX
WEBSITE:http://maverickwealthnow.com
URL:http://maverickwealthnow.com
CONTACT:614-434-6254
ORGANIZER;CN="Paul Finck":https://realty411mag.com/profile/PaulFinck
ATTACH;FMTTYPE="image/jpeg":
ATTENDEE;ROLE=REQ-PARTICIPANT;PARTSTAT=ACCEPTED;RSVP=TRUE;CN="Paul Fin
 ck":https://realty411mag.com/profile/PaulFinck
END:VEVENT
END:VCALENDAR
