BEGIN:VCALENDAR
PRODID:NingEventWidget-v1
VERSION:2.0
METHOD:PUBLISH
BEGIN:VTIMEZONE
TZID:America/Los_Angeles
X-LIC-LOCATION:America/Los_Angeles
BEGIN:DAYLIGHT
TZOFFSETFROM:-0800
TZOFFSETTO:-0700
TZNAME:PDT
DTSTART:19700308T020000
RRULE:FREQ=YEARLY;BYMONTH=3;BYDAY=2SU
END:DAYLIGHT
BEGIN:STANDARD
TZOFFSETFROM:-0700
TZOFFSETTO:-0800
TZNAME:PST
DTSTART:19701101T020000
RRULE:FREQ=YEARLY;BYMONTH=11;BYDAY=1SU
END:STANDARD
END:VTIMEZONE
BEGIN:VEVENT
UID:5727801:Event:58422
DTSTAMP:20260424T043803Z
SUMMARY:Massive Value-Add Multifamily Investment Opportunity in an Up-
 and-Coming Metro
DESCRIPTION:We are super excited to present you with our latest value-
 add multifamily investment opportunity, Arbor Villas, with projected a
 verage annual returns of 20.5% and average cash-on-cash returns of 10.
 58%.\nThis property is exactly what we look for in a tremendous value-
 add play. It is under-performing due to poor management, deferred main
 tenance, and dated interiors, yet big ticket items such as roofs and p
 ools are in great shape. Finding a property like this today is like fi
 nding a needle in a haystack.\nBut what really sets this investment ap
 art is our team's innovative renovation and leasing process which is a
  perfect fit for this property.\nHaving engineered and optimized every
  step of the renovation and leasing process in a truly revolutionary w
 ay to minimize costs and maximize net operating income without sacrifi
 cing quality. This process is brilliant!\nThe resulting units are trul
 y stunning, giving them a competitive edge in the marketplace, and mak
 ing them super easy to lease even with above average rent rates.\nThe 
 overall plan for the opportunity is to implement innovative and effici
 ent interior and exterior renovations, substantially improve the curb 
 appeal of the property, and re-position the asset from its current Cla
 ss-C ranking up to a solid Class-B in line with the desirable sub-mark
 et/location.\nSignup for the the investor call to discover exactly how
  we reduce redevelopment costs 30% or more to boost investor returns.\
 nNote: This project is for ACCREDITED Investors only.\n---------------
 ------------------------ Register for the online investor information 
 session:\nTonight, February 11th\n6:00 Pacific | 7:00 Mountain\n8:00 C
 entral | 9:00 Eastern\nCLICK HERE TO SAVE YOUR SPOT: \nhttp://www.groc
 apitus.com/go\n---------------------------------------\nWe love, love,
  love the value-add play for this investment, and we also love it's lo
 cation in a strong sub-market in an up-and-coming metro.\nNot only doe
 s this metro have numerous top rankings, such as #3 for rent growth, b
 ut it is ranked the 2nd best small american city, and it is in the top
  5 for best cities for millennials.\nHigh-quality jobs are nearby with
  many large employers in various industries.\nThe best part is there i
 s a low supply of apartments, and there is very little planned or new 
 construction of market-rate apartments, so high rent growth is expecte
 d to continue.\nIt really doesn't get much better than this...\nWith t
 he super high projected investor returns and unique value-add approach
  to this opportunity we are expecting very high demand and will be rec
 eiving commitments on a first-come, first-serve basis. Our last 4 proj
 ects sold out almost immediately so please be prepared to act quickly 
 if you have any interest in this project.\nIn the information session 
 not only will you hear the captivating story of how our exceptional re
 novation process reduces costs by over 30%, we will also reveal all th
 e essential details on this investment opportunity:\n- An intro to the
  management team - How we select markets, and why we love this specifi
 c market so much\n- How we selected this property\n- The metro and how
  it ranks against other metros\n- The all-important neighborhood facto
 rs\n- The property... critical insights into why it has so much potent
 ial\n- A fascinating case study about an apt. building, same age, same
  metro, that we completely turned around\n- Detailed financials - assu
 mptions, loans, splits, returns, ...\n- Minimum investment amount and 
 time frame\n--------------------------------------- Register for the o
 nline investor information session:\nTonight, February 11th\n6:00 Paci
 fic | 7:00 Mountain\n8:00 Central | 9:00 Eastern\nCLICK HERE TO SAVE Y
 OUR SPOT:http://www.grocapitus.com/go\n-------------------------------
 --------\n\nFor more information visit https://realty411mag.com/events
 /massive-value-add-multifamily-investment-opportunity-in-an-up-and
DTSTART;TZID=America/Los_Angeles:20190211T180000
DTEND;TZID=America/Los_Angeles:20190211T190000
CATEGORIES:online, webinar
LOCATION:www.grocapitus.com/go
WEBSITE:http://www.grocapitus.com/go
URL:http://www.grocapitus.com/go
CONTACT:
ORGANIZER;CN="Neal Bawa":https://realty411mag.com/profile/NealBawa
ATTACH;FMTTYPE="image/jpeg":https://storage.ning.com/topology/rest/1.0
 /file/get/992393444?profile=original
ATTENDEE;ROLE=REQ-PARTICIPANT;PARTSTAT=ACCEPTED;RSVP=TRUE;CN="Neal Baw
 a":https://realty411mag.com/profile/NealBawa
END:VEVENT
END:VCALENDAR
