BEGIN:VCALENDAR
PRODID:NingEventWidget-v1
VERSION:2.0
METHOD:PUBLISH
BEGIN:VTIMEZONE
TZID:America/Los_Angeles
X-LIC-LOCATION:America/Los_Angeles
BEGIN:DAYLIGHT
TZOFFSETFROM:-0800
TZOFFSETTO:-0700
TZNAME:PDT
DTSTART:19700308T020000
RRULE:FREQ=YEARLY;BYMONTH=3;BYDAY=2SU
END:DAYLIGHT
BEGIN:STANDARD
TZOFFSETFROM:-0700
TZOFFSETTO:-0800
TZNAME:PST
DTSTART:19701101T020000
RRULE:FREQ=YEARLY;BYMONTH=11;BYDAY=1SU
END:STANDARD
END:VTIMEZONE
BEGIN:VEVENT
UID:5727801:Event:28525
DTSTAMP:20260421T101021Z
SUMMARY:LLoSD presents : Bill Ham from Dave Lindahls \"How did they do
  THAT?\"
DESCRIPTION:\n\nThis month at LLoSD we bring Dave Lindahls, Apartment 
 House Riches to San Diego! Most investors have to travel to the Los An
 geles area to get an opportunity to catch this approach first hand, ho
 wever as part of our promise to our members, we are bringing the TALEN
 T and SUCCESS home.Save $5.00 off Admission by R.S.V.P'ing at http://
 www.meetup.com/Lady-Landlords-of-San-Diego/events/101136072/Admissions
  : $20.00Known for, \"Teaching the \"Real\" side of Real Estate, Mr. H
 am is one of David Lindhals most recent success stories from his Apart
 ment House Riches Boot-camp. Bill has been seen on the internet series
 , \"How did they do that?\" and has come to share his experiences on g
 etting investments without bank involvement.You will learn :*How to in
 vest in apartments safely, and without dealing with tenants*Why single
  family homes do work, but Apartment homes work faster.*How to identif
 y \"frustrated\" landlords and acquire their multi-units*How to make c
 losing on an apartment building just as easy as closing on a SFR*Dave'
 s 4 (four) experience tested, absolute keys to successful apartment ow
 nership*What your 3 (three) main objectives should be when buying an a
 partment building.About Mr. Ham:BILL HAM started his professional carr
 ier as a pilot and flight instructor but he wasn't flying high financi
 ally. Bill turned to real estate and spent one year building his real 
 estate education, including his first Boot Camp with Dave Lindahl. He 
 quit his full-time job making $35,000 a year and started flipping hous
 es. He had 32 single family houses in his local market of Macon, Georg
 ia, when he attended Apartment House Riches for the second time. Bill 
 signed up for Gold Coaching and within the first year closed on 3 apar
 tment complexes. Today Bill has 125 units in his real estate portfolio
 , coaches for RE Mentor, and operates his real estate management compa
 ny, Phoenix Residential Management.WATCH Bills most recent interview w
 ith Dave Lindhal : CLICK BELOWhttp://rementor.com/blog/how-did-they-do
 -that-bill-ham/Follow Bill Ham on Twitter : @RealEstateRaw\n\n\n\n\n\n
 \n\n\n\n\n\n\n\nFor more information visit https://realty411mag.com/ev
 ents/llosd-presents-bill-ham-from-dave-lindahls-how-did-they-do-that
DTSTART;TZID=America/Los_Angeles:20130226T183000
DTEND;TZID=America/Los_Angeles:20130226T210000
CATEGORIES:real, estate, investment, education
LOCATION:Holiday Inn
WEBSITE:http://www.meetup.com/Lady-Landlords-of-San-Diego/events/10113
 6072/
URL:http://www.meetup.com/Lady-Landlords-of-San-Diego/events/101136072
 /
CONTACT:760 896-4808
ORGANIZER;CN="Lady Landlords of San Diego":https://realty411mag.com/pr
 ofile/MsJasmineRWillois
ATTACH;FMTTYPE="image/jpeg":http://storage.ning.com/topology/rest/1.0/
 file/get/2286636188?profile=original
ATTENDEE;ROLE=REQ-PARTICIPANT;PARTSTAT=ACCEPTED;RSVP=TRUE;CN="Lady Lan
 dlords of San Diego":https://realty411mag.com/profile/MsJasmineRWilloi
 s
END:VEVENT
END:VCALENDAR
