BEGIN:VCALENDAR
PRODID:NingEventWidget-v1
VERSION:2.0
METHOD:PUBLISH
BEGIN:VTIMEZONE
TZID:America/Los_Angeles
X-LIC-LOCATION:America/Los_Angeles
BEGIN:DAYLIGHT
TZOFFSETFROM:-0800
TZOFFSETTO:-0700
TZNAME:PDT
DTSTART:19700308T020000
RRULE:FREQ=YEARLY;BYMONTH=3;BYDAY=2SU
END:DAYLIGHT
BEGIN:STANDARD
TZOFFSETFROM:-0700
TZOFFSETTO:-0800
TZNAME:PST
DTSTART:19701101T020000
RRULE:FREQ=YEARLY;BYMONTH=11;BYDAY=1SU
END:STANDARD
END:VTIMEZONE
BEGIN:VEVENT
UID:5727801:Event:28112
DTSTAMP:20260421T112401Z
SUMMARY:LLoSD NEW YEAR JUMP OFF!!
DESCRIPTION:Is there any better way to JUMP start the new year, then
  by learning how to getGOVERNMENT funding for your real estate investm
 ent projects?!!!!  (if you find out please let us know)\nThe Gov't is
  giving it away anyhow, so come learn how to get YOUR share of thefu
 nding available for real estate projects.\nThis month Jan. 29th 2013,
  (FOR ONE NIGHT ONLY!) LLoSD is proud to announce the first sighting
  of Sean Carpenter on the west coast in 2013 will be on our stage! All
  the way from Massachusetts, Sean is coming to present his expertise 
 the LLoSD way!  This is an event you don't want to miss.\nSean Carpe
 nter is the nations leading expert and educator on government fundin
 g of real estate projects.  As CEO of Government Deal Funding, LLC, h
 e has put together over $500,000,000.00 in real estate deals over the
  past 12 years using Government Programs\nOver the past 12 years, Sean
  Carpenter, the “Half a Billion Dollar Man”, has done over $500,00
 0,000 in real estate transactions using government programs to put te
 nants in his properties, cover down payments, fund entire rehabs, pay
  out six to seven figure developer fees and millions in tax-credits. 
 Sean has been teaching real estate investors and developers how they
  can claim their share of the bail-out billions set aside from the go
 vernment specifically for us investors.  Sean Carpenter began his car
 eer in real estate as an Acquisitions Officer for a national Low Incom
 e Housing Tax Credit syndicator, working on LIHTC transactions in the
  Southeastern and Northeastern regions of the United States.  Additi
 onally, he was an Asset Manager at Massachusetts Housing Finance Agenc
 y where he maintained a portfolio of federally subsidized properties 
 by conducting annual inspections, regular financial and rent increase
  analyses, and participated in workout and recapitalization strategies
 .  \n\nMost recently, Sean has served as a Project Manager with a na
 tional development company focusing on the preservation of expiring u
 se affordable housing.  Mr. Carpenter was also on the staff of Senato
 r Mark Montigny (D-New Bedford, MA) working with constituents on a wi
 de variety of public policy issues.  Sean is a graduate of the Univer
 sity of Massachusetts at Dartmouth where he holds a Bachelor of Arts 
 Degree in Political Science.  Additionally, he holds a Certificate of
  Real Estate Finance from Boston University.  He has previously serv
 ed on the University Of Massachusetts Board Of Trustees, Southeastern
  Massachusetts University Building Authority. Over the past 12 years,
 Sean has put together over a half -a -BILLION dollars ($500,000,000.0
 0) in deals using Government Programs and works with clients and stud
 ents around the country to get tenants for their properties, six-seven
  figure developer fees, millions in tax credits and funding to cover 
 rehabs, down payments and more.\n\nSean is also a strategic partner of
  Pinnacle Commercial Group a company that seeks to acquire Distressed 
 or Defaulted commercial projects which can be acquired and redevelope
 d to achieve a basis which is substantially below today's current mark
 et value.\nLearn more about Sean at : http://www.governmentdealfundin
 g.com/\nLike him on facebook or Linkedin as well.\n\nLLoSD broadening
 YOUR Real Estate Investing Game in 2013!\nREFRESHMENTS WILL BE SERVE
 D!!This event like all of our events is wheelchair accessible.\nAdmis
 sion/Door fee : $20.00\n$15.00 if prepaid (meetup.com/website)\n \n\n
 For more information visit https://realty411mag.com/events/llosd-new-y
 ear-jump-off
DTSTART;TZID=America/Los_Angeles:20130129T183000
DTEND;TZID=America/Los_Angeles:20130129T210000
CATEGORIES:real, estate, investment, club
LOCATION:HOLIDAY INN ~ MURPHY CANYON SAN DIEGO CA
WEBSITE:http://www.meetup.com/Lady-Landlords-of-San-Diego/events/96134
 692/
URL:http://www.meetup.com/Lady-Landlords-of-San-Diego/events/96134692/
CONTACT:(760) 896-4808
ORGANIZER;CN="Lady Landlords of San Diego":https://realty411mag.com/pr
 ofile/MsJasmineRWillois
ATTACH;FMTTYPE="image/jpeg":http://storage.ning.com/topology/rest/1.0/
 file/get/2286636074?profile=original
ATTENDEE;ROLE=REQ-PARTICIPANT;PARTSTAT=ACCEPTED;RSVP=TRUE;CN="Lady Lan
 dlords of San Diego":https://realty411mag.com/profile/MsJasmineRWilloi
 s
END:VEVENT
END:VCALENDAR
