BEGIN:VCALENDAR
PRODID:NingEventWidget-v1
VERSION:2.0
METHOD:PUBLISH
BEGIN:VTIMEZONE
TZID:America/Los_Angeles
X-LIC-LOCATION:America/Los_Angeles
BEGIN:DAYLIGHT
TZOFFSETFROM:-0800
TZOFFSETTO:-0700
TZNAME:PDT
DTSTART:19700308T020000
RRULE:FREQ=YEARLY;BYMONTH=3;BYDAY=2SU
END:DAYLIGHT
BEGIN:STANDARD
TZOFFSETFROM:-0700
TZOFFSETTO:-0800
TZNAME:PST
DTSTART:19701101T020000
RRULE:FREQ=YEARLY;BYMONTH=11;BYDAY=1SU
END:STANDARD
END:VTIMEZONE
BEGIN:VEVENT
UID:5727801:Event:59925
DTSTAMP:20260421T102340Z
SUMMARY:Living the dream! All of us have dreams. Are you living yours?
DESCRIPTION:\n\nLearning from my son (pictured above), he is, and I'm 
 not.Or am I, just in process?\nJoin us for an evening of universal con
 cepts. Applying to the wealthy and the struggling, around the globe. T
 hese simple, clear distinctions helped me better understand my own tho
 ughts, and are useful to all people looking to better their lot in lif
 e. If it works for the billionaires, I'm thinking it will work for me.
  All of us need the same message: It's about life, not the bottom line
 .\n============================When: April 16, 2019; Tuesday at 6:30 P
 M to 9:00 PM PSTWhere: Unitek College - 4670 Auto Mall Pkwy · Fremont
 , CA\nCLICK HERE TO REGISTER\n============================\nCome liste
 n to veteran real estate investor and co-founder of BAMF, Jean-Marc La
 ndau, for an evening of heart-full thought and investment theory for t
 he current times.\n\nSee you Tuesday in Fremont.\nJean-Marc Landau , H
 ost\n\nFor more information visit https://realty411mag.com/events/livi
 ng-the-dream-all-of-us-have-dreams-are-you-living-yours
DTSTART;TZID=America/Los_Angeles:20190416T183000
DTEND;TZID=America/Los_Angeles:20190416T210000
CATEGORIES:seminar
LOCATION:Unitek College 4670 Auto Mall Pkwy · Fremont, CA
WEBSITE:
URL:
CONTACT:
ORGANIZER;CN="Jean-Marc Landau":https://realty411mag.com/profile/JeanM
 arcLandau
ATTACH;FMTTYPE="image/jpeg":https://storage.ning.com/topology/rest/1.0
 /file/get/2022854994?profile=original
ATTENDEE;ROLE=REQ-PARTICIPANT;PARTSTAT=ACCEPTED;RSVP=TRUE;CN="Jean-Mar
 c Landau":https://realty411mag.com/profile/JeanMarcLandau
END:VEVENT
END:VCALENDAR
