BEGIN:VCALENDAR
PRODID:NingEventWidget-v1
VERSION:2.0
METHOD:PUBLISH
BEGIN:VTIMEZONE
TZID:America/Los_Angeles
X-LIC-LOCATION:America/Los_Angeles
BEGIN:DAYLIGHT
TZOFFSETFROM:-0800
TZOFFSETTO:-0700
TZNAME:PDT
DTSTART:19700308T020000
RRULE:FREQ=YEARLY;BYMONTH=3;BYDAY=2SU
END:DAYLIGHT
BEGIN:STANDARD
TZOFFSETFROM:-0700
TZOFFSETTO:-0800
TZNAME:PST
DTSTART:19701101T020000
RRULE:FREQ=YEARLY;BYMONTH=11;BYDAY=1SU
END:STANDARD
END:VTIMEZONE
BEGIN:VEVENT
UID:5727801:Event:2410
DTSTAMP:20260421T113441Z
SUMMARY:LIVE WEBINAR WITH DAVE LINDAHL * MASTER INVESTOR & EDUCATOR
DESCRIPTION:Hello Friends,\n\nMy webinar next Tuesday will introduce y
 ou one of the most successful investors I know: Dave Lindahl.\n\nOne t
 hing I really like about Dave is that he’s not the kind of guy to si
 t on the sidelines. A lot of people think today’s deep recession has
  made it much harder to make money in real estate. But Dave sees it di
 fferently.\n\nDave says we are smack in the middle of the RICHEST MONE
 YMAKING OPPORTUNITY any of us will likely see in our lifetime. And dur
 ing our November 30th webinar, Dave will explain how you and I can cas
 h in like bandits.\n\nREGISTER HERE: http://www.rementor.com/linda/\n\
 nHow to Make Six Figures in the Next Six Months\n\nDave will explain h
 ow you can make up to $100,000 or more on one real estate deal just by
  finding a property for other investors. It’s called being a “bird
  dog” and it’s like you’re a talent scout, only your job is to f
 ind a star property.What makes a “star” property?\nWho has deep po
 ckets and is looking for “bird dogs” right now? Dave will give us 
 the lucrative answers during the webinar.\n\nHe also wants to shatter 
 some huge misconceptions that are stopping investors dead in their tra
 cks from taking advantage of today’s rich market.\n\nMyth: You need 
 cash to buy foreclosures.\nReality: You can get foreclosures with no m
 oney down.\n\nMyth: You need stellar credit to buy property today. (Af
 ter all, a bank isn’t going to lend you money to buy a property that
  it just repossessed from someone who obviously now has bad credit.\nR
 eality: You can buy property without a credit check.\n\nMyth: The era 
 of flipping for fast profits is over. You have to buy and hold propert
 y now.\nRealty: Not only can you still flip, you can flip apartment bu
 ildings and get the biggest profits ever.\n\nDon’t forget, this webi
 nar is ONE TIME ONLY: November 30th.\n\nRegister now: http://www.remen
 tor.com/linda/\n\nFor more information visit https://realty411mag.com/
 events/live-webinar-with-dave-lindahl
DTSTART;TZID=America/Los_Angeles:20101130T210000
DTEND;TZID=America/Los_Angeles:20101130T220000
CATEGORIES:online, live, webinar
LOCATION:ONLINE WEBINAR
WEBSITE:http://www.rementor.com/linda/
URL:http://www.rementor.com/linda/
CONTACT:Realty411: 310.499.9545
ORGANIZER;CN="Realty411 Magazine":https://realty411mag.com/profile/Rea
 lty411Magazine
ATTACH;FMTTYPE="image/jpeg":http://storage.ning.com/topology/rest/1.0/
 file/get/1917455820?profile=original
ATTENDEE;ROLE=REQ-PARTICIPANT;PARTSTAT=ACCEPTED;RSVP=TRUE;CN="David M.
  Condon":https://realty411mag.com/profile/DavidMCondon
ATTENDEE;ROLE=REQ-PARTICIPANT;PARTSTAT=ACCEPTED;RSVP=TRUE;CN="Robert C
 hurch":https://realty411mag.com/profile/RobertChurch
ATTENDEE;ROLE=REQ-PARTICIPANT;PARTSTAT=ACCEPTED;RSVP=TRUE;CN="Pilar To
 bias":https://realty411mag.com/profile/PilarTobias
ATTENDEE;ROLE=REQ-PARTICIPANT;PARTSTAT=ACCEPTED;RSVP=TRUE;CN="Realty41
 1 Magazine":https://realty411mag.com/profile/Realty411Magazine
ATTENDEE;ROLE=REQ-PARTICIPANT;PARTSTAT=TENTATIVE;RSVP=TRUE;CN="Scott H
 ochgesang":https://realty411mag.com/profile/ScottHochgesang
END:VEVENT
END:VCALENDAR
