BEGIN:VCALENDAR
PRODID:NingEventWidget-v1
VERSION:2.0
METHOD:PUBLISH
BEGIN:VTIMEZONE
TZID:America/Los_Angeles
X-LIC-LOCATION:America/Los_Angeles
BEGIN:DAYLIGHT
TZOFFSETFROM:-0800
TZOFFSETTO:-0700
TZNAME:PDT
DTSTART:19700308T020000
RRULE:FREQ=YEARLY;BYMONTH=3;BYDAY=2SU
END:DAYLIGHT
BEGIN:STANDARD
TZOFFSETFROM:-0700
TZOFFSETTO:-0800
TZNAME:PST
DTSTART:19701101T020000
RRULE:FREQ=YEARLY;BYMONTH=11;BYDAY=1SU
END:STANDARD
END:VTIMEZONE
BEGIN:VEVENT
UID:5727801:Event:673
DTSTAMP:20260421T113533Z
SUMMARY:Learn to do 2-3 Deals a Week!
DESCRIPTION:Drew and Jeff are doing 2-3 deals a WEEK! Join us on a fre
 e webinar and learn exactly how they're doing it.... and it's NOT what
  you think!\n\n\n\nFor more information visit https://realty411mag.com
 /events/learn-to-do-23-deals-a-week
DTSTART;TZID=America/Los_Angeles:20100518T200000
DTEND;TZID=America/Los_Angeles:20100518T210000
CATEGORIES:free, training
LOCATION:Your Computer
WEBSITE:http://AttendThisEvent.com/?eventid=12977778
URL:http://AttendThisEvent.com/?eventid=12977778
CONTACT:
ORGANIZER;CN="Nick Cifonie":https://realty411mag.com/profile/NickCifon
 ie
ATTACH;FMTTYPE="image/jpeg":http://storage.ning.com/topology/rest/1.0/
 file/get/2052998884?profile=original
ATTENDEE;ROLE=REQ-PARTICIPANT;PARTSTAT=ACCEPTED;RSVP=TRUE;CN="Leon Jon
 es":https://realty411mag.com/profile/LeonJones
ATTENDEE;ROLE=REQ-PARTICIPANT;PARTSTAT=ACCEPTED;RSVP=TRUE;CN="Nick Cif
 onie":https://realty411mag.com/profile/NickCifonie
END:VEVENT
END:VCALENDAR
