BEGIN:VCALENDAR
PRODID:NingEventWidget-v1
VERSION:2.0
METHOD:PUBLISH
BEGIN:VTIMEZONE
TZID:America/Los_Angeles
X-LIC-LOCATION:America/Los_Angeles
BEGIN:DAYLIGHT
TZOFFSETFROM:-0800
TZOFFSETTO:-0700
TZNAME:PDT
DTSTART:19700308T020000
RRULE:FREQ=YEARLY;BYMONTH=3;BYDAY=2SU
END:DAYLIGHT
BEGIN:STANDARD
TZOFFSETFROM:-0700
TZOFFSETTO:-0800
TZNAME:PST
DTSTART:19701101T020000
RRULE:FREQ=YEARLY;BYMONTH=11;BYDAY=1SU
END:STANDARD
END:VTIMEZONE
BEGIN:VEVENT
UID:5727801:Event:474
DTSTAMP:20260421T111029Z
SUMMARY:Learn the Best Tool that MemphisInvest.com has used to build a
  Client list selling 200+ Properties Every Year
DESCRIPTION:Prepare to have your mind opened to a completely different
  sales model that focuses on building clients for life.\n\nJoin us for
  a night with Chris Clothier, head of the Sales & Marketing department
  at MemphisInvest.com. Chris will speak about the incredible business 
 built by the Clothier family in Memphis, TN, and REVEAL ALL THEIR SECR
 ETS!\n\nThis family-owned brokerage purchases, sells, rehabs and manag
 es between 20 and 30 properties every month to clients around the worl
 d. Their property management company manages over 600 investment prope
 rties for out-of-state investors.\n\nFor more information visit https:
 //realty411mag.com/events/learn-the-best-tool-that
DTSTART;TZID=America/Los_Angeles:20100518T184500
DTEND;TZID=America/Los_Angeles:20100518T203000
CATEGORIES:non-selling, information, "&", content, only
LOCATION:Los Angeles Meeting & Event Center
WEBSITE:http://www.lameetingcenter.com/
URL:http://www.lameetingcenter.com/
CONTACT:310–280-9196
ORGANIZER;CN="Chris D Clothier":https://realty411mag.com/profile/Chris
 DClothier
ATTACH;FMTTYPE="image/jpeg":http://storage.ning.com/topology/rest/1.0/
 file/get/2052998942?profile=original
ATTENDEE;ROLE=REQ-PARTICIPANT;PARTSTAT=ACCEPTED;RSVP=TRUE;CN="Erica Re
 ynolds":https://realty411mag.com/profile/EricaReynolds
ATTENDEE;ROLE=REQ-PARTICIPANT;PARTSTAT=ACCEPTED;RSVP=TRUE;CN="Roger St
 einer":https://realty411mag.com/profile/Roger
ATTENDEE;ROLE=REQ-PARTICIPANT;PARTSTAT=ACCEPTED;RSVP=TRUE;CN="Johnny a
 nd Denise Riley":https://realty411mag.com/profile/JohnnyandDeniseRiley
ATTENDEE;ROLE=REQ-PARTICIPANT;PARTSTAT=ACCEPTED;RSVP=TRUE;CN=Matt:http
 s://realty411mag.com/profile/MattMalouf
ATTENDEE;ROLE=REQ-PARTICIPANT;PARTSTAT=ACCEPTED;RSVP=TRUE;CN="Realty41
 1 Magazine":https://realty411mag.com/profile/Realty411Magazine
ATTENDEE;ROLE=REQ-PARTICIPANT;PARTSTAT=ACCEPTED;RSVP=TRUE;CN=Don:https
 ://realty411mag.com/profile/Don
ATTENDEE;ROLE=REQ-PARTICIPANT;PARTSTAT=ACCEPTED;RSVP=TRUE;CN="Chris D 
 Clothier":https://realty411mag.com/profile/ChrisDClothier
END:VEVENT
END:VCALENDAR
