BEGIN:VCALENDAR
PRODID:NingEventWidget-v1
VERSION:2.0
METHOD:PUBLISH
BEGIN:VTIMEZONE
TZID:America/Los_Angeles
X-LIC-LOCATION:America/Los_Angeles
BEGIN:DAYLIGHT
TZOFFSETFROM:-0800
TZOFFSETTO:-0700
TZNAME:PDT
DTSTART:19700308T020000
RRULE:FREQ=YEARLY;BYMONTH=3;BYDAY=2SU
END:DAYLIGHT
BEGIN:STANDARD
TZOFFSETFROM:-0700
TZOFFSETTO:-0800
TZNAME:PST
DTSTART:19701101T020000
RRULE:FREQ=YEARLY;BYMONTH=11;BYDAY=1SU
END:STANDARD
END:VTIMEZONE
BEGIN:VEVENT
UID:5727801:Event:59842
DTSTAMP:20260421T120938Z
SUMMARY:LEARN HOW TO BUILD WEALTH WITH 1031 EXCHANGES
DESCRIPTION:Join us for this webinar to explore Section 1031 and learn
  how to complete a successful Exchange transaction.\nUsually, selling 
 or disposing of your investment property will trigger Federal and stat
 e capital gain and depreciation recapture income taxes, which will lea
 ve you with much less to reinvest.\nThis makes it extremely difficult 
 for you to trade up in real estate value, increase your cash flow and 
 ultimately your net-worth when you have to recognize and pay these inc
 ome tax liabilities.\n-------------------------------- MONDAY APRIL 22
 nd @ 6PM PACIFIC\nCLICK HERE TO REGISTER: https://multifamilyu.com/103
 1exchange\n--------------------------------\n- What is a 1031 Exchange
  and why is it important to understand and know how it works? - What a
 re the benefits of a 1031 Exchange.\n- What are the Rules and Requirem
 ents for a successful 1031 Exchange.\nThe 1031 exchange allows you to 
 sell or dispose of and subsequently acquire properties in order to rea
 llocate, consolidate or diversify your investment portfolio without pa
 ying tax on any capital gain or depreciation recapture taxes.\n1031 ex
 change transactions are one of the last remaining strategies available
  to defer the recognition of capital gain and depreciation recapture i
 ncome taxes on the sale or disposition of qualifying property.\nWHAT Y
 OU'LL LEARN\nAn in depth explanation of what 1031 Exchange means, and 
 how does it work Why do we need to complete a 1031 Exchange?\nWhat is 
 a Qualified Intermediary?\nHow to choose a Qualified Intermediary?\n--
 ------------------------------ MONDAY APRIL 22nd @ 6PM PACIFIC\nCLICK 
 HERE TO REGISTER: https://multifamilyu.com/1031exchange\n-------------
 -------------------\nMeet Our Presenter:\nLAUREN SPEIDEL  Business Dev
 elopment Officer, \nExeter 1031 Exchange Services, LLC\nLauren Speidel
  is the Business Development Officer for Exeter 1031 Exchange Services
 , LLC, Exeter Reverse 1031 Exchange Services, LLC and its affiliate co
 mpanies. Lauren is based in the company's Midwest Regional office loca
 ted in Chicago, Illinois.\nMrs. Speidel joined Exeter 1031 Exchange Se
 rvices, LLC in 2017. She is responsible for sales, marketing and clien
 t relationship management for the Midwest including, but not limited t
 o, Illinois, Wisconsin, Minnesota, Michigan, Ohio, Indiana, Iowa, and 
 Missouri.\nLauren can assist clients with Forward 1031 Exchanges, Reve
 rse 1031 Exchanges and Improvement 1031 Exchanges. She has worked exte
 nsively with financial planners, settlement agents, real estate agents
  and brokers, closing attorneys, registered representatives and accoun
 tants in the administration of their clients' 1031 Exchange transactio
 ns.\n\nFor more information visit https://realty411mag.com/events/lear
 n-how-to-build-wealth-with-1031-exchanges
DTSTART;TZID=America/Los_Angeles:20190422T180000
DTEND;TZID=America/Los_Angeles:20190422T190000
CATEGORIES:online, webinar
LOCATION:https://multifamilyu.com/1031exchange
WEBSITE:https://multifamilyu.com/1031exchange
URL:https://multifamilyu.com/1031exchange
CONTACT:
ORGANIZER;CN="Neal Bawa":https://realty411mag.com/profile/NealBawa
ATTACH;FMTTYPE="image/jpeg":https://storage.ning.com/topology/rest/1.0
 /file/get/2063798053?profile=original
ATTENDEE;ROLE=REQ-PARTICIPANT;PARTSTAT=ACCEPTED;RSVP=TRUE;CN="Neal Baw
 a":https://realty411mag.com/profile/NealBawa
END:VEVENT
END:VCALENDAR
