BEGIN:VCALENDAR
PRODID:NingEventWidget-v1
VERSION:2.0
METHOD:PUBLISH
BEGIN:VTIMEZONE
TZID:America/Los_Angeles
X-LIC-LOCATION:America/Los_Angeles
BEGIN:DAYLIGHT
TZOFFSETFROM:-0800
TZOFFSETTO:-0700
TZNAME:PDT
DTSTART:19700308T020000
RRULE:FREQ=YEARLY;BYMONTH=3;BYDAY=2SU
END:DAYLIGHT
BEGIN:STANDARD
TZOFFSETFROM:-0700
TZOFFSETTO:-0800
TZNAME:PST
DTSTART:19701101T020000
RRULE:FREQ=YEARLY;BYMONTH=11;BYDAY=1SU
END:STANDARD
END:VTIMEZONE
BEGIN:VEVENT
UID:5727801:Event:25751
DTSTAMP:20260421T084938Z
SUMMARY:Lady Landlords of San Diegos gets LOUD!
DESCRIPTION:Sam khorramian and Oliver Graf founders of social media m
 arketing GIANT Loud Media will be here getting our investors off on th
 e right foot for the summer real estate market. These Youtube GURUs wi
 ll be sharing their secrets on how to be first to appear during search
 es, and how to find properties, buyers and sellers on line. With this 
 competitive market here in San Diego, you CANNOT afford to miss this e
 vent. llosandiego@gmail.comor RSVP at meetup.com\n \nLearn to :\n\nIn
 tensify Prospect Bonding\nCreate Automated Follow Up\nInstant Trust an
 d Credibility Mechanism\nCreate the “Online Giant” Effect While Ma
 intaining Close Personal Contact…\nCONVERT – Leads into Raving Fan
 s\nMake Every Touch More Intimate\nBe 100% Authentic\n\n \n“When Th
 ey Know You, They Buy From You”, Develop A Constant River Of New\nht
 tp://loud.ms/\n\nFor more information visit https://realty411mag.com/e
 vents/lady-landlords-of-san-diegos-gets-loud
DTSTART;TZID=America/Los_Angeles:20120731T183000
DTEND;TZID=America/Los_Angeles:20120731T213000
CATEGORIES:seminar, education, real, estate, investing
LOCATION:HOLIDAY INN
WEBSITE:http://www.meetup.com/Lady-Landlords-of-San-Diego/events/70849
 922/
URL:http://www.meetup.com/Lady-Landlords-of-San-Diego/events/70849922/
CONTACT:(760) 896-4808
ORGANIZER;CN="Lady Landlords of San Diego":https://realty411mag.com/pr
 ofile/MsJasmineRWillois
ATTACH;FMTTYPE="image/jpeg":http://storage.ning.com/topology/rest/1.0/
 file/get/2053000772?profile=original
ATTENDEE;ROLE=REQ-PARTICIPANT;PARTSTAT=ACCEPTED;RSVP=TRUE;CN="Lady Lan
 dlords of San Diego":https://realty411mag.com/profile/MsJasmineRWilloi
 s
END:VEVENT
END:VCALENDAR
