BEGIN:VCALENDAR
PRODID:NingEventWidget-v1
VERSION:2.0
METHOD:PUBLISH
BEGIN:VTIMEZONE
TZID:America/Los_Angeles
X-LIC-LOCATION:America/Los_Angeles
BEGIN:DAYLIGHT
TZOFFSETFROM:-0800
TZOFFSETTO:-0700
TZNAME:PDT
DTSTART:19700308T020000
RRULE:FREQ=YEARLY;BYMONTH=3;BYDAY=2SU
END:DAYLIGHT
BEGIN:STANDARD
TZOFFSETFROM:-0700
TZOFFSETTO:-0800
TZNAME:PST
DTSTART:19701101T020000
RRULE:FREQ=YEARLY;BYMONTH=11;BYDAY=1SU
END:STANDARD
END:VTIMEZONE
BEGIN:VEVENT
UID:5727801:Event:26045
DTSTAMP:20260421T101333Z
SUMMARY:Lady Landlords of San Diego HOT AUGUST Nights!
DESCRIPTION:So, cruise on down in your classic hot rod, and get nostal
 gic, because we are taking a trip down cash flow lane!\nOur very own J
 ason Kennedy and Jasmine Willois will be cracking the case to successf
 ul out-of-state real estate investing.  If you've ever been curious a
 s to where to start, or asked yourself, \"what are the keys to success
 ful out of state investing,\" then this is your meeting.\nWhether you 
 already own, or are considering an out-of-state investment, come hear 
 Jason and Jasmine discuss their motto, \"Live where you want, INVEST
  where it's SMART!\"\n \nTopics & Q&A include:\n \nHow to determine 
 where to invest your real estate money, based on your comfort zone.\nW
 hat's changed since the real estate market crashed?\nCome hear Jasmine
  & Jason discuss what most wholesalers consider taboo!\n· *To HUD or
  not to HUD? That is the tenant question.\n· *Are the property taxes
  variable or stable?\n· *What extra cost is involved with the season
  changes in the area I’m considering?\n· *Should you be asking que
 stions about; scorpions, red clay, city codes, secret government list?
 \n· *How to make your vendors think you make unannounced visits to y
 our property on a whim.\n· *HVAC units how to protect them from bein
 g stolen. What works and what doesn’t.\n· * How to property vet a
  out of state property manager\n· *How to find TRULY independent res
 earch on the economic health of the investment area. Are there really 
 jobs anywhere?\n· *Ideas that can help your tenant cooperate and sho
 w your home while they are still living in the residence.\n· *How to
  attract and determine if you found “GOOD” tenants.\n\n\nFor more 
 information visit https://realty411mag.com/events/lady-landlords-of-sa
 n-diego-hot-august-nights
DTSTART;TZID=America/Los_Angeles:20120828T183000
DTEND;TZID=America/Los_Angeles:20120828T210000
CATEGORIES:real, estate, education
LOCATION:Holiday Inn Murphy Canyon
WEBSITE:http://www.meetup.com/Lady-Landlords-of-San-Diego/events/41417
 102/
URL:http://www.meetup.com/Lady-Landlords-of-San-Diego/events/41417102/
CONTACT:(760) 896-4808
ORGANIZER;CN="Lady Landlords of San Diego":https://realty411mag.com/pr
 ofile/MsJasmineRWillois
ATTACH;FMTTYPE="image/jpeg":http://storage.ning.com/topology/rest/1.0/
 file/get/1917459483?profile=original
ATTENDEE;ROLE=REQ-PARTICIPANT;PARTSTAT=ACCEPTED;RSVP=TRUE;CN="Lady Lan
 dlords of San Diego":https://realty411mag.com/profile/MsJasmineRWilloi
 s
END:VEVENT
END:VCALENDAR
