BEGIN:VCALENDAR
PRODID:NingEventWidget-v1
VERSION:2.0
METHOD:PUBLISH
BEGIN:VTIMEZONE
TZID:America/Los_Angeles
X-LIC-LOCATION:America/Los_Angeles
BEGIN:DAYLIGHT
TZOFFSETFROM:-0800
TZOFFSETTO:-0700
TZNAME:PDT
DTSTART:19700308T020000
RRULE:FREQ=YEARLY;BYMONTH=3;BYDAY=2SU
END:DAYLIGHT
BEGIN:STANDARD
TZOFFSETFROM:-0700
TZOFFSETTO:-0800
TZNAME:PST
DTSTART:19701101T020000
RRULE:FREQ=YEARLY;BYMONTH=11;BYDAY=1SU
END:STANDARD
END:VTIMEZONE
BEGIN:VEVENT
UID:5727801:Event:58026
DTSTAMP:20260421T114000Z
SUMMARY:Join a Hilarious Game of MultifamilyU Monopoly
DESCRIPTION:Join us for the brand new game of MultifamilyU Monopoly. L
 et's kick off 2019 with some FUN while we dig in on key concepts for m
 ultifamily property analysis. Anna Myers, lead underwriter for Grocapi
 tus, will lay the foundation by teaching underwriting basics (and then
  some) on how to analyze apartments.\nNext we will organize into teams
  and provide you with a quick deal analyzer dashboard (laptop required
  if you want to follow along. If you don’t bring a laptop, don’t w
 orry, there will be plenty of people in the room who will have them).\
 nAnd then it’s time to spin the wheel !! Who knows what riches or di
 sasters lurk for your apartment building as we spin the wheel to see e
 ach team's fate. Let the hilarity ensue as the teams battle it out to 
 see who will win and who will lose the interactive game of Multifamily
 U Monopoly.\nLearn while you laugh – BRING YOUR LAPTOP OR IPAD ALONG
  and join the fun for our first BAMF meeting of 2019.\n===============
 ====================== When: Tuesday, January 15, 2019 at 6:30 PM to 9
 :00 PM PST\nWhere: Unitek College; 4670 Auto Mall Pkwy · Fremont, CA\
 nClick here to RSVP: https://www.meetup.com/MFinvestingMeetup/events/l
 msscpyzcbtb/\n=====================================\nABOUT ANNA MYERS\
 nAnna Myers is the Director of Acquisitions at Grocapitus, a commercia
 l real estate investment company in the San Francisco Bay Area. Anna i
 s the lead underwriter for the company - responsible for sourcing and 
 underwriting Commercial properties across the U.S., for 275+ investors
 .\nGrocapitus founder Neal Bawa’s portfolio of over 1600 units/beds 
 is projected to be at 2500 in 12 months. The portfolio includes Multif
 amily and student housing properties in 7 U.S. states.\nAnna also teac
 hes underwriting for MultifamilyU both monthly via webinars as well as
  quarterly in MultifamilyU Boot Camps. MultifamilyU is an apartment in
 vesting education company led by Neal Bawa. Nearly 4,000 students atte
 nd Neal’s multifamily seminar series each year and hundreds attend h
 is Magic of Multifamily boot camps, and Anna is a co-host for many of 
 the events.\nAnna Myers also co-hosts a Real Estate Investor Meetup in
  the Bay Area with over 700 members. In addition, she is an AirBnB Sup
 erhost in two markets in the US. Related to Multifamily Syndication, A
 nna and Neal have partnered together to purchase 500+units of apartmen
 t projects in 2018.\nSee you there :-)\n==============================
 ======= When: Tuesday, January 15, 2019 at 6:30 PM to 9:00 PM PST\nWhe
 re: Unitek College; 4670 Auto Mall Pkwy · Fremont, CA\nClick here to 
 RSVP: https://www.meetup.com/MFinvestingMeetup/events/lmsscpyzcbtb/\n=
 ====================================\n\nFor more information visit htt
 ps://realty411mag.com/events/join-a-hilarious-game-of-multifamilyu-mon
 opoly
DTSTART;TZID=America/Los_Angeles:20190115T183000
DTEND;TZID=America/Los_Angeles:20190115T210000
CATEGORIES:meetup
LOCATION:Unitek College
WEBSITE:https://www.meetup.com/MFinvestingMeetup/events/lmsscpyzcbtb/
URL:https://www.meetup.com/MFinvestingMeetup/events/lmsscpyzcbtb/
CONTACT:
ORGANIZER;CN="Neal Bawa":https://realty411mag.com/profile/NealBawa
ATTACH;FMTTYPE="image/jpeg":https://storage.ning.com/topology/rest/1.0
 /file/get/639054645?profile=original
ATTENDEE;ROLE=REQ-PARTICIPANT;PARTSTAT=ACCEPTED;RSVP=TRUE;CN="Neal Baw
 a":https://realty411mag.com/profile/NealBawa
END:VEVENT
END:VCALENDAR
