BEGIN:VCALENDAR
PRODID:NingEventWidget-v1
VERSION:2.0
METHOD:PUBLISH
BEGIN:VTIMEZONE
TZID:America/Los_Angeles
X-LIC-LOCATION:America/Los_Angeles
BEGIN:DAYLIGHT
TZOFFSETFROM:-0800
TZOFFSETTO:-0700
TZNAME:PDT
DTSTART:19700308T020000
RRULE:FREQ=YEARLY;BYMONTH=3;BYDAY=2SU
END:DAYLIGHT
BEGIN:STANDARD
TZOFFSETFROM:-0700
TZOFFSETTO:-0800
TZNAME:PST
DTSTART:19701101T020000
RRULE:FREQ=YEARLY;BYMONTH=11;BYDAY=1SU
END:STANDARD
END:VTIMEZONE
BEGIN:VEVENT
UID:5727801:Event:2231
DTSTAMP:20260421T143128Z
SUMMARY:Investor's Club - 12 ROUNDS
DESCRIPTION:Learn My 5 Year Cash Flow Retirement Plan\n\nFor more info
 rmation visit https://realty411mag.com/events/investors-club-12-rounds
DTSTART;TZID=America/Los_Angeles:20101118T183000
DTEND;TZID=America/Los_Angeles:20101118T203000
CATEGORIES:club, meeting
LOCATION:Barbara J. Riley Community Center
WEBSITE:
URL:
CONTACT:951-280-1900
ORGANIZER:Black Belt Investors by Sensei
ATTACH;FMTTYPE="image/jpeg":http://storage.ning.com/topology/rest/1.0/
 file/get/2052999083?profile=original
ATTENDEE;ROLE=REQ-PARTICIPANT;PARTSTAT=ACCEPTED;RSVP=TRUE;CN="Sensei G
 illiland":https://realty411mag.com/profile/SenseiGilliland
END:VEVENT
END:VCALENDAR
