BEGIN:VCALENDAR
PRODID:NingEventWidget-v1
VERSION:2.0
METHOD:PUBLISH
BEGIN:VTIMEZONE
TZID:America/Los_Angeles
X-LIC-LOCATION:America/Los_Angeles
BEGIN:DAYLIGHT
TZOFFSETFROM:-0800
TZOFFSETTO:-0700
TZNAME:PDT
DTSTART:19700308T020000
RRULE:FREQ=YEARLY;BYMONTH=3;BYDAY=2SU
END:DAYLIGHT
BEGIN:STANDARD
TZOFFSETFROM:-0700
TZOFFSETTO:-0800
TZNAME:PST
DTSTART:19701101T020000
RRULE:FREQ=YEARLY;BYMONTH=11;BYDAY=1SU
END:STANDARD
END:VTIMEZONE
BEGIN:VEVENT
UID:5727801:Event:682
DTSTAMP:20260421T100432Z
SUMMARY:Investor Summit - In Sacramento
DESCRIPTION:Hi there,\n\nDid you hear already?\n\nIn just two weeks so
 me of the top real estate professionals and Investors in the country a
 re coming to Stockton California, for 3 days for the Investor Summit 2
 010!!!\n\nCheck it out…\nhttps://investsummit.infusionsoft.com/go/IS
 10CA/A3/\n\nThis is an event that many call the most informational and
  empowering seminar in the country.\n\nThere you’ll learn step-by-st
 ep what the most successful investors in the country are doing right n
 ow to create quick cash and long-term wealth in today’s market even 
 with no cash and no credit. (and it’s not what you think)\n\nHere’
 s the best part… because we’re friends with the organizer of the e
 vent, we were able to get a handful of VIP tickets which are normally 
 $997 for FREE!\n\nI’ve got 2 reserved for you at no charge, but you 
 must RSVP now!\n\nRSVP HERE NOW at NO CHARGE:\n\nhttps://investsummit.
 infusionsoft.com/go/IS10CA/A3/\n\nThis will be your ONLY CHANCE. We ca
 n only hold your tickets for you for 24 hrs. after that we’ll need t
 o give them away.\n\nNow’s the best time ever to be a real estate in
 vestor… are you ready to take advantage of it?\n\nMake sure you’re
  there.\n\nRealty411 Magazine\n\nPS. There’s some big name national 
 speakers that are coming to Stockton for the very first time… and so
 me investors that you’ve never heard of that will blow your mind!\n\
 nPSS. I almost forgot to mention that they’ve got over $25K in cash 
 and prizes they’re giving away at the event in addition to the thous
 ands of dollars worth of bonuses you get just for registering for free
 !\n\nGrab your seat now… https://investsummit.infusionsoft.com/go/IS
 10CA/A3/\n\nFor more information visit https://realty411mag.com/events
 /investor-summit-in-sacramento
DTSTART;TZID=America/Los_Angeles:20100521T000000
DTEND;TZID=America/Los_Angeles:20100523T235900
CATEGORIES:real, estate, investor
LOCATION:Sacramento
WEBSITE:https://investsummit.infusionsoft.com/go/IS10CA/A3/
URL:https://investsummit.infusionsoft.com/go/IS10CA/A3/
CONTACT:
ORGANIZER;CN="Realty411 Magazine":https://realty411mag.com/profile/Rea
 lty411Magazine
ATTACH;FMTTYPE="image/jpeg":
ATTENDEE;ROLE=REQ-PARTICIPANT;PARTSTAT=ACCEPTED;RSVP=TRUE;CN="Realty41
 1 Magazine":https://realty411mag.com/profile/Realty411Magazine
END:VEVENT
END:VCALENDAR
