BEGIN:VCALENDAR
PRODID:NingEventWidget-v1
VERSION:2.0
METHOD:PUBLISH
BEGIN:VTIMEZONE
TZID:America/Los_Angeles
X-LIC-LOCATION:America/Los_Angeles
BEGIN:DAYLIGHT
TZOFFSETFROM:-0800
TZOFFSETTO:-0700
TZNAME:PDT
DTSTART:19700308T020000
RRULE:FREQ=YEARLY;BYMONTH=3;BYDAY=2SU
END:DAYLIGHT
BEGIN:STANDARD
TZOFFSETFROM:-0700
TZOFFSETTO:-0800
TZNAME:PST
DTSTART:19701101T020000
RRULE:FREQ=YEARLY;BYMONTH=11;BYDAY=1SU
END:STANDARD
END:VTIMEZONE
BEGIN:VEVENT
UID:5727801:Event:10907
DTSTAMP:20260421T095922Z
SUMMARY:Investor Networking this Saturday!
DESCRIPTION:Dear Friends, Associates and Investors,\nLast chance... do
 n't miss the opportunity to meet and speak with Mr. Chen Wang the owne
 r and founder of ACE Capital, the Premier Land Banking Company in Cali
 fornia.  \nHe will be present then my Land Banking Seminar on Saturda
 y July 16th in Whittier.      Mr. Wang has been recognized for his m
 any business accomplishments and personal success in  Who's Who in Am
 erica Magazine . \nAfter 40 years of investing in land and the creat
 ion of enough wealth to retire three generations of his family he sti
 ll enjoys and wants to share with you his time tested wealth creation
  strategy of Land Banking.      Please join us and give yourself t
 he opportunity to hear from Mr. Wang.  I promise you will be glad yo
 u invested your time to learn from the expert!     Don't wait regis
 ter below. \nhttps://events.r20.constantcontact.com/register/eventReg
 ?llr=ecjhr7dab&oeidk=a07e41p6bkn7c658e85\n\n\nLinda Pliagas Realty411 
 Magazine FOR MORE INFORMATION:\nO: 562-945-3510  C: 562-900-4009\n \n
  \n\nFor more information visit https://realty411mag.com/events/inves
 tor-networking-this
DTSTART;TZID=America/Los_Angeles:20110716T100000
DTEND;TZID=America/Los_Angeles:20110716T120000
CATEGORIES:networking, event, mixer, land, banking, information, ace, 
 capital
LOCATION:Atrium Business Center Atrium Business Center
WEBSITE:https://events.r20.constantcontact.com/register/eventReg?llr=e
 cjhr7dab&oeidk=a07e41p6bkn7c658e85
URL:https://events.r20.constantcontact.com/register/eventReg?llr=ecjhr
 7dab&oeidk=a07e41p6bkn7c658e85
CONTACT:650-364-3330
ORGANIZER;CN="Realty411 Magazine":https://realty411mag.com/profile/Rea
 lty411Magazine
ATTACH;FMTTYPE="image/jpeg":http://storage.ning.com/topology/rest/1.0/
 file/get/2052999157?profile=original
ATTENDEE;ROLE=REQ-PARTICIPANT;PARTSTAT=ACCEPTED;RSVP=TRUE;CN="Realty41
 1 Magazine":https://realty411mag.com/profile/Realty411Magazine
END:VEVENT
END:VCALENDAR
