BEGIN:VCALENDAR
PRODID:NingEventWidget-v1
VERSION:2.0
METHOD:PUBLISH
BEGIN:VTIMEZONE
TZID:America/Los_Angeles
X-LIC-LOCATION:America/Los_Angeles
BEGIN:DAYLIGHT
TZOFFSETFROM:-0800
TZOFFSETTO:-0700
TZNAME:PDT
DTSTART:19700308T020000
RRULE:FREQ=YEARLY;BYMONTH=3;BYDAY=2SU
END:DAYLIGHT
BEGIN:STANDARD
TZOFFSETFROM:-0700
TZOFFSETTO:-0800
TZNAME:PST
DTSTART:19701101T020000
RRULE:FREQ=YEARLY;BYMONTH=11;BYDAY=1SU
END:STANDARD
END:VTIMEZONE
BEGIN:VEVENT
UID:5727801:Event:60247
DTSTAMP:20260421T113908Z
SUMMARY:How to Structure Deals With Investors
DESCRIPTION:Join our guest presenter Kim Lisa Taylor as she discuss ho
 w to structure your deals to raise money from private individuals you 
 will benefit from this information\nRaising money to fund your deals i
 s the key to bigger deals and accelerated wealth creation.\nDon't miss
  out on this critical knowledge!\nDuring This Live Webinar, You Will L
 earn\n- What's entities you should you use and why? - Important termin
 ology your Investors already know\n- Where you should you form them?\n
 - How waterfalls work?\n- What are the types of syndicates?\n- What to
  offer Investors?\n---------------------------------- Monday, May 20th
  at 6PM Pacific\nCLICK HERE TO REGISTER: http://bit.ly/2E30mRc\n------
 ----------------------------\nMeet Our Presenter:\nKim Lisa Taylor\nKi
 m Lisa Taylor, Esq., is the founder of Syndication Attorneys PLLC, a b
 outique corporate securities law firm that helps clients nationwide wi
 th their federal real estate securities offerings.\nKim focuses on hel
 ping small business owners/developers structure and convey their inves
 tment opportunities in a way that will attract private investors, both
  domestic and foreign. More than a law firm, Syndication Attorneys PLL
 C helps entrepreneurs create successful investment companies.\nLicense
 d as an attorney in California since 2002, Kim has made corporate secu
 rities law her primary focus since 2008. She has been licensed as an a
 ttorney in Florida since 2012.\n---------------------------------- Mon
 day, May 20th at 6PM Pacific\nCLICK HERE TO REGISTER: http://bit.ly/2E
 30mRc\n----------------------------------\n\nFor more information visi
 t https://realty411mag.com/events/how-to-structure-deals-with-investor
 s
DTSTART;TZID=America/Los_Angeles:20190520T180000
DTEND;TZID=America/Los_Angeles:20190520T190000
CATEGORIES:online, webinar
LOCATION:http://bit.ly/2E30mRc
WEBSITE:http://bit.ly/2E30mRc
URL:http://bit.ly/2E30mRc
CONTACT:
ORGANIZER;CN="Neal Bawa":https://realty411mag.com/profile/NealBawa
ATTACH;FMTTYPE="image/jpeg":https://storage.ning.com/topology/rest/1.0
 /file/get/1183660080?profile=original
ATTENDEE;ROLE=REQ-PARTICIPANT;PARTSTAT=ACCEPTED;RSVP=TRUE;CN="Neal Baw
 a":https://realty411mag.com/profile/NealBawa
END:VEVENT
END:VCALENDAR
