BEGIN:VCALENDAR
PRODID:NingEventWidget-v1
VERSION:2.0
METHOD:PUBLISH
BEGIN:VTIMEZONE
TZID:America/Los_Angeles
X-LIC-LOCATION:America/Los_Angeles
BEGIN:DAYLIGHT
TZOFFSETFROM:-0800
TZOFFSETTO:-0700
TZNAME:PDT
DTSTART:19700308T020000
RRULE:FREQ=YEARLY;BYMONTH=3;BYDAY=2SU
END:DAYLIGHT
BEGIN:STANDARD
TZOFFSETFROM:-0700
TZOFFSETTO:-0800
TZNAME:PST
DTSTART:19701101T020000
RRULE:FREQ=YEARLY;BYMONTH=11;BYDAY=1SU
END:STANDARD
END:VTIMEZONE
BEGIN:VEVENT
UID:5727801:Event:59063
DTSTAMP:20260421T130233Z
SUMMARY:How To Quickly Start Using LinkedIn To Generate Leads, Secure 
 New Funding Sources And Access The Deals You’re Looking For
DESCRIPTION:Join us online as our guest presenter, Chief Victory Offic
 er of Linked Lead Enterprises, Yakov Smart, shows you how to quickly a
 nd effectively start using Linkedin to generate leads. Watch as he dis
 cusses how to build lists of potential funding and deal sources on Lin
 kedin within minutes.\nIf you want to learn to use Linkedin to develop
  a powerful list using Linkedin with little to no experience in social
  media, then this live training is for you!\nDuring This Live Webinar,
  You Will Learn\n- A New Way Of Using LinkedIn For Investors  - Keys T
 o Utilizing LinkedIn's Most Recent Changes\n- How To Use LinkedIn To G
 enerate Leads And Access Deals\n------------------------------- THURS 
 MARCH 28 @ 6:00 PM PACIFIC\nCLICK HERE TO REGISTER: https://multifamil
 yu.com/linkedin\n-------------------------------\nYou Will Discover:\n
 - Hidden Keys For Capitalizing On LinkedIn's Most Recent Changes And G
 aining Massive Visibility In Your Desired Real Estate Market.... All W
 ithout Paying For Additional Advertising Or Search Engine Optimization
 \n- How To Build Highly Target Lists Of Potential Funding And Deal Sou
 rces On LinkedIn Within Minutes\n- The #1 Question Every Investor Shou
 ld Be Asking Themselves When It Comes To Their LinkedIn Profile... HIN
 T: It's Probably NOT What You Think\n- A Revolutionary Marketing Metho
 d Any Investor Can Start Using On LinkedIn Immediately For Generating 
 Leads, Securing Funding Sources, And Accessing The Deals They're Looki
 ng For\nABOUT YOUR PRESENTERS\nYAKOV SMART  Chief Victory Officer at L
 inked Lead Enterprises\nYakov Smart is an Internationally-Recognized L
 inkedIn Expert and Author of Disrupting LinkedIn. Sought after by Top 
 CEOs, Best-Selling Authors and Leaders of Renowned Real Estate and Sal
 es Organizations world-wide, Yakov has paved the way for thousands of 
 business owners discovering a new way of using LinkedIn. He's shared t
 he stage with Samantha Debianci of Bravo's hit TV show, Million Dollar
  Listing and been on a guest on numerous media outlets.\nA resident of
  Scottsdale, Arizona, today Yakov is the proud leader of Linked Lead E
 nterprises, the World’s Leading B2Me Training Organization, where hi
 s live events, on-demand training programs and strategic consulting ac
 celerators give people proven tools and techniques for transforming th
 eir LinkedIn Profiles into priceless, Relationship Building Assets\nAN
 NA MYERS  Vice President of Grocapitus Investments\nAnna Myers serves 
 as Vice President at Grocapitus, a commercial real estate investment c
 ompany in the San Francisco Bay Area. Anna is a modern entrepreneur wh
 o applies her 20+ years of experience in technology and business to th
 e finding, analyzing and acquiring of Commercial properties in key mar
 kets across the U.S. Together with her business partner Neal Bawa, the
 y approach real estate as data scientists to create compelling profits
  for 400+ investors.\nAs the lead underwriter for the company, Anna al
 so teaches deal analysis for MultifamilyU both monthly via webinars as
  well as quarterly in MultifamilyU Boot Camps. MultifamilyU is an apar
 tment investing education company owned by the principal Neal Bawa. Ne
 arly 5,000 students attend his multifamily seminar series each year an
 d hundreds attend his Magic of Multifamily boot camps, which Anna is a
  co-host for many of the events.\nAnna Myers also co-hosts a Real Esta
 te Investor Meetup in the Bay Area with over 800 members. In addition,
  she is an AirBnB Superhost in two markets in the US. Related to Syndi
 cation, Anna and Neal have partnered together to purchase500+units of 
 apartment projects in 2018, and are on track for another 250units in Q
 1 of 2019\n------------------------------- THURS MARCH 28 @ 6:00 PM PA
 CIFIC\nCLICK HERE TO REGISTER: https://multifamilyu.com/linkedin\n----
 ---------------------------\n\nFor more information visit https://real
 ty411mag.com/events/how-to-quickly-start-using-linkedin-to-generate-le
 ads-secure-new
DTSTART;TZID=America/Los_Angeles:20190328T160000
DTEND;TZID=America/Los_Angeles:20190328T170000
CATEGORIES:online, webinar
LOCATION:https://multifamilyu.com/linkedin
WEBSITE:https://multifamilyu.com/linkedin
URL:https://multifamilyu.com/linkedin
CONTACT:
ORGANIZER;CN="Neal Bawa":https://realty411mag.com/profile/NealBawa
ATTACH;FMTTYPE="image/jpeg":https://storage.ning.com/topology/rest/1.0
 /file/get/1521401272?profile=original
ATTENDEE;ROLE=REQ-PARTICIPANT;PARTSTAT=ACCEPTED;RSVP=TRUE;CN="Neal Baw
 a":https://realty411mag.com/profile/NealBawa
END:VEVENT
END:VCALENDAR
