BEGIN:VCALENDAR
PRODID:NingEventWidget-v1
VERSION:2.0
METHOD:PUBLISH
BEGIN:VTIMEZONE
TZID:America/Los_Angeles
X-LIC-LOCATION:America/Los_Angeles
BEGIN:DAYLIGHT
TZOFFSETFROM:-0800
TZOFFSETTO:-0700
TZNAME:PDT
DTSTART:19700308T020000
RRULE:FREQ=YEARLY;BYMONTH=3;BYDAY=2SU
END:DAYLIGHT
BEGIN:STANDARD
TZOFFSETFROM:-0700
TZOFFSETTO:-0800
TZNAME:PST
DTSTART:19701101T020000
RRULE:FREQ=YEARLY;BYMONTH=11;BYDAY=1SU
END:STANDARD
END:VTIMEZONE
BEGIN:VEVENT
UID:5727801:Event:5003
DTSTAMP:20260421T095908Z
SUMMARY:How to Get Started Flipping Repossessed Properties...
DESCRIPTION:This Wednesday at 9 PM EST I am doing a very special webin
 ar training with one of my friendsthat have built a fortune flipping R
 epossessedproperties.  And he's still \"crushin' it\" even moreso in 
 today's market.https://www2.gotomeeting.com/register/572392034On this 
 special training we will reveal the following:1. 4 Simple Easy to Foll
 ow Key Methods that my guest has been consistently using in order to g
 et rich with Repossessed properties.These strategies include:-His Repo
  Quick Cash Method that can have you witha check in your hands in as l
 ittle as 7 days-One of his 5 Repo Wholesale Methods that he usesin ord
 er to turn and burn repossessed properties- And lots more...2. We're a
 lso going to talk about the state of thereal estate business in today'
 s market because we want to clear up some of the misconceptions that's
  going on in today's market.  There are HUGE opportunities in today's
  market and the investors that know what they are doing are all eating
 .You can too!!  We're going to show you how.And lot's more!\n \nIf y
 ou really want to know how to make money in today'smarket whether you 
 have no money or experience, or if youdo have money and want it to gro
 w, then you need to beon this special webinar.Register for this specia
 l private \"closed door\" webinarWednesday March 16, 2011 at 9pm EST/8
 pm CST/7pm MST/6pm PST\nhttps://www2.gotomeeting.com/register/57239203
 4\nFernando\n\nFor more information visit https://realty411mag.com/eve
 nts/how-to-get-started-flipping
DTSTART;TZID=America/Los_Angeles:20110316T180000
DTEND;TZID=America/Los_Angeles:20110316T190000
CATEGORIES:educational
LOCATION:webinar
WEBSITE:https://www2.gotomeeting.com/register/572392034
URL:https://www2.gotomeeting.com/register/572392034
CONTACT:
ORGANIZER;CN="Fernando Young":https://realty411mag.com/profile/Fernand
 oYoung
ATTACH;FMTTYPE="image/jpeg":
ATTENDEE;ROLE=REQ-PARTICIPANT;PARTSTAT=ACCEPTED;RSVP=TRUE;CN="Fernando
  Young":https://realty411mag.com/profile/FernandoYoung
END:VEVENT
END:VCALENDAR
