BEGIN:VCALENDAR
PRODID:NingEventWidget-v1
VERSION:2.0
METHOD:PUBLISH
BEGIN:VTIMEZONE
TZID:America/Los_Angeles
X-LIC-LOCATION:America/Los_Angeles
BEGIN:DAYLIGHT
TZOFFSETFROM:-0800
TZOFFSETTO:-0700
TZNAME:PDT
DTSTART:19700308T020000
RRULE:FREQ=YEARLY;BYMONTH=3;BYDAY=2SU
END:DAYLIGHT
BEGIN:STANDARD
TZOFFSETFROM:-0700
TZOFFSETTO:-0800
TZNAME:PST
DTSTART:19701101T020000
RRULE:FREQ=YEARLY;BYMONTH=11;BYDAY=1SU
END:STANDARD
END:VTIMEZONE
BEGIN:VEVENT
UID:5727801:Event:1406
DTSTAMP:20260421T115428Z
SUMMARY:How to buy properties for 10 cents on the dollar!
DESCRIPTION:Learn to buy properties on gated and golf course communiti
 es for 10 cents on the dollar and less!\n\nA golf course property clos
 e to million $ homes for $5k or less?!!\n\nThis is an event anyone wit
 h any real estate interest should attend... there's no CD's, membershi
 ps, or courses to buy! Join us on a free training webinar!\n\nhttps://
 pangearealestate.infusionsoft.com/go/iws/IDEA\n\nFor more information 
 visit https://realty411mag.com/events/how-to-buy-properties-for-10
DTSTART;TZID=America/Los_Angeles:20100622T200000
DTEND;TZID=America/Los_Angeles:20100622T213000
CATEGORIES:free, training, webinar
LOCATION:A computer screen near you!
WEBSITE:https://pangearealestate.infusionsoft.com/go/iws/IDEA
URL:https://pangearealestate.infusionsoft.com/go/iws/IDEA
CONTACT:
ORGANIZER:Nick Cifonie - Real Estate Investor Online
ATTACH;FMTTYPE="image/jpeg":http://storage.ning.com/topology/rest/1.0/
 file/get/2052998840?profile=original
ATTENDEE;ROLE=REQ-PARTICIPANT;PARTSTAT=ACCEPTED;RSVP=TRUE;CN="Nick Cif
 onie":https://realty411mag.com/profile/NickCifonie
END:VEVENT
END:VCALENDAR
