BEGIN:VCALENDAR
PRODID:NingEventWidget-v1
VERSION:2.0
METHOD:PUBLISH
BEGIN:VTIMEZONE
TZID:America/Los_Angeles
X-LIC-LOCATION:America/Los_Angeles
BEGIN:DAYLIGHT
TZOFFSETFROM:-0800
TZOFFSETTO:-0700
TZNAME:PDT
DTSTART:19700308T020000
RRULE:FREQ=YEARLY;BYMONTH=3;BYDAY=2SU
END:DAYLIGHT
BEGIN:STANDARD
TZOFFSETFROM:-0700
TZOFFSETTO:-0800
TZNAME:PST
DTSTART:19701101T020000
RRULE:FREQ=YEARLY;BYMONTH=11;BYDAY=1SU
END:STANDARD
END:VTIMEZONE
BEGIN:VEVENT
UID:5727801:Event:94720
DTSTAMP:20260421T084921Z
SUMMARY:Holiday VIRTUAL Investor Weekend Summit - Celebrate and Learn 
 with Us
DESCRIPTION:Prepare for a Wonderful Weekend of Investor Education, Mot
 ivation & Good Cheer!  Get ready for a weekend of solid education and 
 extreme motivation on Saturday, December 11th and Sunday, December 12t
 h.Reserve the weekend now, and prepare for a special complementary vir
 tual summit.Realty411 will unite some of the most successful, knowledg
 eable, and savvy investors in the REI (Real Estate Investing) industry
  to help our readers make educated decisions for today and tomorrow.Re
 alty411’s Holiday VIRTUAL Investor Weekend Summit will begin at 9 am
  PT until 2:30 pm PT. Our virtual event is only half day this time in 
 consideration of the busy holiday season.This special online event is 
 complimentary to attend. Please note: Recordings will NOT be made avai
 lable later, this is a LIVE CONFERENCE for dedicated investors of all 
 levels.WHAT TO EXPECT: LEARN TO REHAB – DISCOVER HOT MARKETS FOR BUY
 -AND-HOLD INVESTORS – HEAR ABOUT OUR BIGGEST MISTAKES AND HOW TO AVO
 ID THEM – NO FAIRY-TALES – HONEST, REAL AND RAW -- JOIN US & CHANG
 E YOUR LIFE, TOO\n\nFor more information visit https://realty411mag.co
 m/events/holiday-virtual-investor-weekend-summit-celebrate-and
DTSTART;TZID=America/Los_Angeles:20211211T090000
DTEND;TZID=America/Los_Angeles:20211211T143000
CATEGORIES:holiday, investor, event
LOCATION:Online
WEBSITE:https://us02web.zoom.us/webinar/register/WN_JBfXNeQATKOCXGqKhD
 Cc6A
URL:https://us02web.zoom.us/webinar/register/WN_JBfXNeQATKOCXGqKhDCc6A
CONTACT:8056931497
ORGANIZER;CN="Realty411 Magazine":https://realty411mag.com/profile/Rea
 lty411Magazine
ATTACH;FMTTYPE="image/jpeg":
ATTENDEE;ROLE=REQ-PARTICIPANT;PARTSTAT=ACCEPTED;RSVP=TRUE;CN="Robert C
 hurch":https://realty411mag.com/profile/RobertChurch
ATTENDEE;ROLE=REQ-PARTICIPANT;PARTSTAT=ACCEPTED;RSVP=TRUE;CN="Realty41
 1 Magazine":https://realty411mag.com/profile/Realty411Magazine
END:VEVENT
END:VCALENDAR
