BEGIN:VCALENDAR
PRODID:NingEventWidget-v1
VERSION:2.0
METHOD:PUBLISH
BEGIN:VTIMEZONE
TZID:America/Los_Angeles
X-LIC-LOCATION:America/Los_Angeles
BEGIN:DAYLIGHT
TZOFFSETFROM:-0800
TZOFFSETTO:-0700
TZNAME:PDT
DTSTART:19700308T020000
RRULE:FREQ=YEARLY;BYMONTH=3;BYDAY=2SU
END:DAYLIGHT
BEGIN:STANDARD
TZOFFSETFROM:-0700
TZOFFSETTO:-0800
TZNAME:PST
DTSTART:19701101T020000
RRULE:FREQ=YEARLY;BYMONTH=11;BYDAY=1SU
END:STANDARD
END:VTIMEZONE
BEGIN:VEVENT
UID:5727801:Event:1894
DTSTAMP:20260421T113601Z
SUMMARY:Go-Zone - Turn TAXES into CASH FLOW
DESCRIPTION:Hi, it's David,\n\nI wanted to touch base with you and let
  you know that I'm hosting two webinars this coming Tuesday, September
  14th with Realty411 [Noon and 6pm Pacific]. We’re only allowing a s
 mall number of registrants for this one, as most of my GO ZONE invento
 ry has already been purchased due to the end of 2010 deadline on the t
 ax benefits [50% Bonus Depreciation, make your hard earned tax dollars
  work for you.]\n\nWe weren’t planning on picking up any new invento
 ry, but management came across a couple of great packages of town home
 s and SFH's in the past few weeks and we jumped on it.\n\nPlease let m
 e know if you're going to be able to make it or just click the link be
 low.\n\nSPACE IS LIMITED, EVENT IS FREE, Go Zone 50% bonus deprecation
  purchase deadline 12/31/10\n\nRegister for the webinar now, by clicki
 ng one of the links below:\n\nTue, Sep 14, 2010 12:00 PM - 1:00 PM PDT
 \n\nTue, Sep 14, 2010 6:00 PM - 7:00 PM PDT\n\nBest Regards,\n\nDavid\
 n\nDavid Lawrence\n\nHanover Companies | 1824 W. Webster Ave., Suite 4
 01 | Chicago, IL 60614\n\nT 1.877.373.2805 | F 312.277.2819\ndavid.law
 rence@hanovercompanies.com | www.hanovercompanies.com\n\nFor more info
 rmation visit https://realty411mag.com/events/gozone-turn-taxes-into-c
 ash
DTSTART;TZID=America/Los_Angeles:20100914T120000
DTEND;TZID=America/Los_Angeles:20100914T130000
CATEGORIES:webinar
LOCATION:ONLINE WEBINAR
WEBSITE:https://www2.gotomeeting.com/register/211849323
URL:https://www2.gotomeeting.com/register/211849323
CONTACT:1.877.373.2805
ORGANIZER;CN="Realty411 Magazine":https://realty411mag.com/profile/Rea
 lty411Magazine
ATTACH;FMTTYPE="image/jpeg":http://storage.ning.com/topology/rest/1.0/
 file/get/2052999026?profile=original
ATTENDEE;ROLE=REQ-PARTICIPANT;PARTSTAT=ACCEPTED;RSVP=TRUE;CN="Frank An
 astasi":https://realty411mag.com/profile/FrankAnastasi
ATTENDEE;ROLE=REQ-PARTICIPANT;PARTSTAT=ACCEPTED;RSVP=TRUE;CN="Realty41
 1 Magazine":https://realty411mag.com/profile/Realty411Magazine
END:VEVENT
END:VCALENDAR
