BEGIN:VCALENDAR
PRODID:NingEventWidget-v1
VERSION:2.0
METHOD:PUBLISH
BEGIN:VTIMEZONE
TZID:America/Los_Angeles
X-LIC-LOCATION:America/Los_Angeles
BEGIN:DAYLIGHT
TZOFFSETFROM:-0800
TZOFFSETTO:-0700
TZNAME:PDT
DTSTART:19700308T020000
RRULE:FREQ=YEARLY;BYMONTH=3;BYDAY=2SU
END:DAYLIGHT
BEGIN:STANDARD
TZOFFSETFROM:-0700
TZOFFSETTO:-0800
TZNAME:PST
DTSTART:19701101T020000
RRULE:FREQ=YEARLY;BYMONTH=11;BYDAY=1SU
END:STANDARD
END:VTIMEZONE
BEGIN:VEVENT
UID:5727801:Event:58895
DTSTAMP:20260421T224616Z
SUMMARY:Get Control! Using Your IRA or 401k to Invest in Real Estate
DESCRIPTION:Join us online with our guest presenter Scott Maurer of Ad
 vanta IRA, as he talks about everything you need to know about SDIRAs,
  its definition, types and how you can use them to invest in a private
  partnership.\nWHAT IS AN SDIRA A self-directed individual retirement 
 account (SDIRA) is an individual retirement account (IRA) in which the
  investor is in charge of making all the investment decisions.\nWHAT Y
 OU DONT KNOW When it comes to raising capital and investing in real es
 tate, many syndicators and investors are often unaware of a largely un
 tapped resource: retirement accounts!\nMIND BOGGLING FACTS There is ov
 er $8.3 trillion in IRA accounts, and even more than that sitting in 4
 01ks and other employer-sponsored plans.\n----------------------------
 ----- Monday, March 18th, 6PM Pacific\nCLICK HERE TO REGISTER: https:/
 /multifamilyu.com/sdira\n---------------------------------\nWHAT YOU'L
 L LEARN\nThe different types of retirement accounts that can be self-d
 irected How the funds are moved tax-free between custodians\nHow self-
 directed retirement funds can be invested in a private partnership\nWh
 at is involved to move funds out of the stock market\nWhy IRAs can be 
 a great and easy resource to tap into for both your existing investors
  and future ones\nMEET YOUR PRESENTER\nSCOTT MAURER Advanta IRA\nScott
  is the Director of Business Development for Advanta IRA. Advanta spec
 ializes in administering self-directed IRA and retirement accounts. Sc
 ott has worked for Advanta since 2006, and is a frequent speaker and l
 ecturer on the topic of self-directed IRAs and using retirement funds 
 to invest in real estate and other alternative assets.\nAs the Busines
 s Development Director, Scott oversees the sales, marketing and educat
 ion staff to insure that new clients receive proper guidance and suppo
 rt when establishing relationships with Advanta. Scott has also worked
  with numerous individuals and companies to educate them on how self-d
 irected IRAs can be used in their capital raising strategies.\nScott i
 s also an attorney and a member of The Florida Bar, although he does n
 ot give legal advice to Advanta clients\n-----------------------------
 ---- Monday, March 18th, 6PM Pacific\nCLICK HERE TO REGISTER: https://
 multifamilyu.com/sdira\n---------------------------------\n\nFor more 
 information visit https://realty411mag.com/events/get-control-using-yo
 ur-ira-or-401k-to-invest-in-real-estate
DTSTART;TZID=America/Los_Angeles:20190318T180000
DTEND;TZID=America/Los_Angeles:20190318T190000
CATEGORIES:online, webinar
LOCATION:https://multifamilyu.com/sdira
WEBSITE:https://multifamilyu.com/sdira
URL:https://multifamilyu.com/sdira
CONTACT:
ORGANIZER;CN="Neal Bawa":https://realty411mag.com/profile/NealBawa
ATTACH;FMTTYPE="image/jpeg":https://storage.ning.com/topology/rest/1.0
 /file/get/1312571794?profile=original
ATTENDEE;ROLE=REQ-PARTICIPANT;PARTSTAT=ACCEPTED;RSVP=TRUE;CN="Neal Baw
 a":https://realty411mag.com/profile/NealBawa
END:VEVENT
END:VCALENDAR
