BEGIN:VCALENDAR
PRODID:NingEventWidget-v1
VERSION:2.0
METHOD:PUBLISH
BEGIN:VTIMEZONE
TZID:America/Los_Angeles
X-LIC-LOCATION:America/Los_Angeles
BEGIN:DAYLIGHT
TZOFFSETFROM:-0800
TZOFFSETTO:-0700
TZNAME:PDT
DTSTART:19700308T020000
RRULE:FREQ=YEARLY;BYMONTH=3;BYDAY=2SU
END:DAYLIGHT
BEGIN:STANDARD
TZOFFSETFROM:-0700
TZOFFSETTO:-0800
TZNAME:PST
DTSTART:19701101T020000
RRULE:FREQ=YEARLY;BYMONTH=11;BYDAY=1SU
END:STANDARD
END:VTIMEZONE
BEGIN:VEVENT
UID:5727801:Event:60153
DTSTAMP:20260421T114148Z
SUMMARY:From Startups and Fortune 50 to disrupting MF Real Estate
DESCRIPTION:\nCLICK HERE TO  REGISTER\nOr, copy  and paste the  lin
 k below to  a  new  browser to register:\nhttps://www.meetup.com/MF
 investingMeetup/events/smsscpyzhbtb/\n\nSee you there!\n\nNeal Bawa , 
 Host\n\nFor more information visit https://realty411mag.com/events/fro
 m-startups-and-fortune-50-to-disrupting-mf-real-estate
DTSTART;TZID=America/Los_Angeles:20190515T183000
DTEND;TZID=America/Los_Angeles:20190515T210000
CATEGORIES:meetup
LOCATION:New York Life office on the 9th floor
WEBSITE:
URL:
CONTACT:
ORGANIZER;CN="Jean-Marc Landau":https://realty411mag.com/profile/JeanM
 arcLandau
ATTACH;FMTTYPE="image/jpeg":https://storage.ning.com/topology/rest/1.0
 /file/get/2368945413?profile=original
ATTENDEE;ROLE=REQ-PARTICIPANT;PARTSTAT=ACCEPTED;RSVP=TRUE;CN="Jean-Mar
 c Landau":https://realty411mag.com/profile/JeanMarcLandau
END:VEVENT
END:VCALENDAR
