BEGIN:VCALENDAR
PRODID:NingEventWidget-v1
VERSION:2.0
METHOD:PUBLISH
BEGIN:VTIMEZONE
TZID:America/Los_Angeles
X-LIC-LOCATION:America/Los_Angeles
BEGIN:DAYLIGHT
TZOFFSETFROM:-0800
TZOFFSETTO:-0700
TZNAME:PDT
DTSTART:19700308T020000
RRULE:FREQ=YEARLY;BYMONTH=3;BYDAY=2SU
END:DAYLIGHT
BEGIN:STANDARD
TZOFFSETFROM:-0700
TZOFFSETTO:-0800
TZNAME:PST
DTSTART:19701101T020000
RRULE:FREQ=YEARLY;BYMONTH=11;BYDAY=1SU
END:STANDARD
END:VTIMEZONE
BEGIN:VEVENT
UID:5727801:Event:60168
DTSTAMP:20260421T114025Z
SUMMARY:From Startups and Fortune 50 to Disrupting MF Real Estate
DESCRIPTION:From Startups and Fortune 50 to disrupting MF Real estate 
 - A story of building a vertically integrated business.\nPrinci and Vi
 kram will discuss how they leveraged their professional background to 
 building a business that is disrupting the Multi-Family investment fie
 ld with the implementation of lean six sigma methodology to attain ben
 chmark success.\nJoin us as they discuss the following points in depth
 :\n• Why Vertical Integration is key to a predictable investment out
 come • How to transition from high paying jobs to full-time real est
 ate investor by creating multiple streams of income\n• How in-house 
 Construction and Property Management can change the trajectory of the 
 returns\n========================================= When: *Tonight*, Ma
 y 15, 2019 at 6:30 PM to 9:00 PM (PST)\nWhere: New York Life office on
  the 9th floor, 425 Market St · San Francisco, CA\nCLICK HERE TO REGI
 STER\n==========================================\nOur Speakers:\nVikra
 m Brar has held executive positions and managed the fiscal operations 
 of the established and startup companies. He has led scalable operatio
 nal growth in companies going through accelerated growth from $5M to $
 100M+ in revenue.\nPrinci Gll is a serial entrepreneur with successful
  technology and e-commerce businesses. She has worked with Forbes 50 c
 ompanies on their multiple high impact $500M+ business transformation 
 projects.\nDon't miss this exciting event!\nSee you there!\n\nFor more
  information visit https://realty411mag.com/events/from-startups-and-f
 ortune-50-to-disrupting-mf-real-estate-1
DTSTART;TZID=America/Los_Angeles:20190515T183000
DTEND;TZID=America/Los_Angeles:20190515T210000
CATEGORIES:"seminar/talk"
LOCATION:New York Life office on the 9th floor
WEBSITE:https://www.meetup.com/MFinvestingMeetup/events/smsscpyzhbtb/
URL:https://www.meetup.com/MFinvestingMeetup/events/smsscpyzhbtb/
CONTACT:
ORGANIZER;CN="Neal Bawa":https://realty411mag.com/profile/NealBawa
ATTACH;FMTTYPE="image/jpeg":https://storage.ning.com/topology/rest/1.0
 /file/get/2573934867?profile=original
ATTENDEE;ROLE=REQ-PARTICIPANT;PARTSTAT=ACCEPTED;RSVP=TRUE;CN="Neal Baw
 a":https://realty411mag.com/profile/NealBawa
END:VEVENT
END:VCALENDAR
