BEGIN:VCALENDAR
PRODID:NingEventWidget-v1
VERSION:2.0
METHOD:PUBLISH
BEGIN:VTIMEZONE
TZID:America/Los_Angeles
X-LIC-LOCATION:America/Los_Angeles
BEGIN:DAYLIGHT
TZOFFSETFROM:-0800
TZOFFSETTO:-0700
TZNAME:PDT
DTSTART:19700308T020000
RRULE:FREQ=YEARLY;BYMONTH=3;BYDAY=2SU
END:DAYLIGHT
BEGIN:STANDARD
TZOFFSETFROM:-0700
TZOFFSETTO:-0800
TZNAME:PST
DTSTART:19701101T020000
RRULE:FREQ=YEARLY;BYMONTH=11;BYDAY=1SU
END:STANDARD
END:VTIMEZONE
BEGIN:VEVENT
UID:5727801:Event:59030
DTSTAMP:20260421T203915Z
SUMMARY:[Fremont] Opportunity Zones: Unprecedented New Real Estate Tax
  Strategy
DESCRIPTION:Join popular presenter and multifamily expert Neal Bawa an
 d Anna Myers for an eye-opening, research driven look at one of the be
 st tax deductions for real estate investors ever. This tremendous new 
 tax incentive is paving the way for gigantic profits for savvy investo
 rs. If you are facing capital gains of any kind (stocks, business sale
 , or real estate) we’ll show you how this new tax law can help you d
 efer, and in some cases completely erase, federal taxes… legally.\nW
 HAT IT IS An eye-opening, research driven look at one of the best tax 
 deductions for real estate investors ever. This tremendous new tax inc
 entive is paving the way for gigantic profits for savvy investors.\nHO
 W INVESTORS BENEFIT If you are facing capital gains of any kind (stock
 s, business sale, or real estate) we'll show you how this new tax law 
 can help you defer, and in some cases completely erase, federal taxes.
 .. legally.\nWHAT AREAS QUALIFY The size of the opportunity zones is a
 bsolutely enormous. In fact, we are already investing in some of the d
 esignated areas because they are attrative even without the huge tax i
 ncentives.\n--------------------------------------- Tuesday, March 19 
 6:30 PM PST\nUnitek College, 4670 Auto Mall Pkwy · Fremont, CA\nCLICK
  HERE TO REGISTER: https://www.meetup.com/MFinvestingMeetup/events/lms
 scpyzfbzb/\n---------------------------------------\nWHAT YOU'LL LEARN
  - The in's and out's of this relatively obscure tax incentive hidden 
 in the tax reform package, and the recent change that is causing it to
  take off.\n- How you can legally pay absolutely ZERO federal capital 
 gains taxes when you take advantage of this huge tax incentive designe
 d to encourage investment in specific communities.\n- Best strategies 
 for unlocking maximum tax savings for real estate investors and apartm
 ent syndicators.\n- How you can sell highly appreciated properties in 
 high price areas, and exchange them tax-deferred for high-income prope
 rties.\n--------------------------------------- Tuesday, March 19 6:30
  PM PST\nUnitek College, 4670 Auto Mall Pkwy · Fremont, CA\nCLICK HER
 E TO REGISTER: https://www.meetup.com/MFinvestingMeetup/events/smsscpy
 zfbbc/\n---------------------------------------\nMeet our Presenter:\n
 NEAL BAWA Founder and CEO\nMultifamilyU and Grocapitus\nNeal Bawa is C
 EO / Founder at Grocapitus, a commercial real estate investment compan
 y. Neal sources, negotiates and acquires Commercial properties across 
 the U.S., for 300+ investors. Current portfolio over 1800 units/beds, 
 projected to be at 3,000 in 12 months. The portfolio includes Multifam
 ily and student housing properties in 8 U.S. states.\nNeal speaks at M
 ultifamily events, IRA events &&meetups across the country. Nearly 4,0
 00 students attend his multifamily seminar series each year and hundre
 ds attend his Magic of Multifamily boot camps. Neal is the co-founder 
 of the largest Multifamily Investing Meetup network in the U.S. (BAMF)
 , a group of investors that has over 4000 members.\nNeal is a backyard
  tomato farmer and a protein diet health nut. He believes in positivit
 y and Karma, is passionate about cricket and about the enormous potent
 ial of self-driving electric vehicles to solve the global climate cris
 is.\n\nFor more information visit https://realty411mag.com/events/frem
 ont-opportunity-zones-unprecedented-new-real-estate-tax
DTSTART;TZID=America/Los_Angeles:20190319T183000
DTEND;TZID=America/Los_Angeles:20190319T210000
CATEGORIES:meetup
LOCATION:Unitek College
WEBSITE:https://www.meetup.com/MFinvestingMeetup/events/smsscpyzfbbc/
URL:https://www.meetup.com/MFinvestingMeetup/events/smsscpyzfbbc/
CONTACT:
ORGANIZER;CN="Neal Bawa":https://realty411mag.com/profile/NealBawa
ATTACH;FMTTYPE="image/jpeg":https://storage.ning.com/topology/rest/1.0
 /file/get/1442575377?profile=original
ATTENDEE;ROLE=REQ-PARTICIPANT;PARTSTAT=ACCEPTED;RSVP=TRUE;CN="Neal Baw
 a":https://realty411mag.com/profile/NealBawa
END:VEVENT
END:VCALENDAR
