BEGIN:VCALENDAR
PRODID:NingEventWidget-v1
VERSION:2.0
METHOD:PUBLISH
BEGIN:VTIMEZONE
TZID:America/Los_Angeles
X-LIC-LOCATION:America/Los_Angeles
BEGIN:DAYLIGHT
TZOFFSETFROM:-0800
TZOFFSETTO:-0700
TZNAME:PDT
DTSTART:19700308T020000
RRULE:FREQ=YEARLY;BYMONTH=3;BYDAY=2SU
END:DAYLIGHT
BEGIN:STANDARD
TZOFFSETFROM:-0700
TZOFFSETTO:-0800
TZNAME:PST
DTSTART:19701101T020000
RRULE:FREQ=YEARLY;BYMONTH=11;BYDAY=1SU
END:STANDARD
END:VTIMEZONE
BEGIN:VEVENT
UID:5727801:Event:24055
DTSTAMP:20260421T112400Z
SUMMARY:Financing FRENZY! Notes & Mobile Homes
DESCRIPTION:Ladies and Gentlemen, Are you looking for a few more optio
 ns when it comes to real estate investing? Have you found out that the
 re is nothing Passive about owning property out right?\nWell we are PR
 OUD to announce the guest speaker for September's monthly LLoSD meetin
 g, Dawn Rickabaugh. Also known as, \"The Note Queen\", Dawn a Owner Fi
 nancing Consultant, owner of the Owner financing club, and author of \
 "Owner financing on STERIODS\", is coming to educate us on the \"ins &
  outs\" of NOTE holding. She will be joined by San Diegos premier mobi
 le home flipping team Hernandez,INC for a extreme and hard look at the
  advantages and disadvantages of investing in all types of real estate
  backed notes, including MOBILE HOME NOTES!\nThe fact is that real est
 ate investors who focus on wholesaling, and/or buy-and-hold cash flow 
 strategies can greatly benefit from understanding how owner financing 
 (with the subsequent sale of all or part of the real estate note creat
 ed) can often greatly accelerate profits. Diversifying your investment
  strategies can be an intelligent hedge against unforeseeables in the 
 marketplace. So whether you are considering selling or buying/holding 
 a note you DON'T WANT TO MISS THIS EVENT! Bring your questions because
  this, like all events will be entirely inter-active.\nAS ALWAYS AFTER
  HOUR NETWORKING :  9:30 til they shut the lights off! IF YOU ATTENDE
 D her presentation in 2011 you KNOW, first hand, the fun that was had 
 at the AFTER HOUR NETWORKING EVENT! If you missed it, I'm sure you've 
 heard the rumors by now. Don't miss your chance to network with San Di
 egos most experienced and successful women in real estate. Join us for
  an evening bash with wine, music, education, deal sharing and real es
 tate strategy sessions. We have created a fun, relaxed environment whe
 re women can inquire, share, and bounce around creative ideas to addre
 ss the 3 Ts. (TOILETS, TENANTS, & TRASH).\n \n\nFor more information 
 visit https://realty411mag.com/events/financing-frenzy-notes-mobile-ho
 mes
DTSTART;TZID=America/Los_Angeles:20120530T183000
DTEND;TZID=America/Los_Angeles:20120530T210000
CATEGORIES:investment, education, real, estate, cash, flow, mobile, ho
 me, rental, income
LOCATION:San Diego, CA
WEBSITE:http://www.meetup.com/Lady-Landlords-of-San-Diego/events/49947
 142/
URL:http://www.meetup.com/Lady-Landlords-of-San-Diego/events/49947142/
CONTACT:760 896-4808
ORGANIZER;CN="Lady Landlords of San Diego":https://realty411mag.com/pr
 ofile/MsJasmineRWillois
ATTACH;FMTTYPE="image/jpeg":http://storage.ning.com/topology/rest/1.0/
 file/get/2052999486?profile=original
ATTENDEE;ROLE=REQ-PARTICIPANT;PARTSTAT=ACCEPTED;RSVP=TRUE;CN="Lady Lan
 dlords of San Diego":https://realty411mag.com/profile/MsJasmineRWilloi
 s
END:VEVENT
END:VCALENDAR
