BEGIN:VCALENDAR
PRODID:NingEventWidget-v1
VERSION:2.0
METHOD:PUBLISH
BEGIN:VTIMEZONE
TZID:America/Los_Angeles
X-LIC-LOCATION:America/Los_Angeles
BEGIN:DAYLIGHT
TZOFFSETFROM:-0800
TZOFFSETTO:-0700
TZNAME:PDT
DTSTART:19700308T020000
RRULE:FREQ=YEARLY;BYMONTH=3;BYDAY=2SU
END:DAYLIGHT
BEGIN:STANDARD
TZOFFSETFROM:-0700
TZOFFSETTO:-0800
TZNAME:PST
DTSTART:19701101T020000
RRULE:FREQ=YEARLY;BYMONTH=11;BYDAY=1SU
END:STANDARD
END:VTIMEZONE
BEGIN:VEVENT
UID:5727801:Event:59107
DTSTAMP:20260421T142831Z
SUMMARY:Evaluating Multifamily Properties: Reading Financials &amp; Pi
 tfalls
DESCRIPTION:Join us online as we show you behind the scenes our invest
 ment property selection process. We will go through the stages involve
 d in assessing a property, the questions that we ask, the assumptions 
 we make, and how they influence the property analysis process.\nDuring
  This Live Webinar, You Will Learn ~ 4 important metrics you need to k
 now when evaluating a property and what values to look for\n~ The firs
 t \"make or break\" filters to analyze a deal, so you don't waste time
  and resources \n~ The \"Holy Trinity\" - what it is and why it's impo
 rtant\n~ 5 specific things you must look for in an operating memorandu
 m\n~ Operating memorandum information to be cautious about, and valida
 te externally\n~ 3 costly but common pitfalls to avoid\n--------------
 ------------------- Thursday, March 21st 6PM Pacific\nCLICK HERE TO RE
 GISTER: https://multifamilyu.com/evaluatingprops\n--------------------
 -------------\nIf you want a proven system for buying multifamily prop
 erties, then this live training is for you!\nYou Will Discover:\nPrefa
 cing an Assessment: Identifying your goals Reading the Property Packag
 e: Keywords to watch out for\nVacancies: Understanding economic vacanc
 ies vs physical vacancies.\nAvoiding Surprise Expenses: Asking the rig
 ht questions can save hundreds of thousands of dollars.\nTeam: Resourc
 es and partners you need on your team.\nNumbers: The nitty, the gritty
 , numbers game. \nUnderstanding Value-Add: The different types of valu
 e adds, costs vs returns\nCapital Stack: financing and assumptions\nAs
 sessing Returns: Tying in with your goals\nMeet our presenter:\nAnna M
 yers Vice President\nGrocapitus Investments\nAnna Myers serves as Vice
  President at Grocapitus, a commercial real estate investment company 
 in the San Francisco Bay Area. Anna is a modern entrepreneur who appli
 es her 20+ years of experience in technology and business to the findi
 ng, analyzing and acquiring of Commercial properties in key markets ac
 ross the U.S. Together with her business partner Neal Bawa, they appro
 ach real estate as data scientists to create compelling profits for 40
 0+ investors.\nAs the lead underwriter for the company, Anna also teac
 hes deal analysis for MultifamilyU both monthly via webinars as well a
 s quarterly in MultifamilyU Boot Camps. MultifamilyU is an apartment i
 nvesting education company owned by the principal Neal Bawa. Nearly 5,
 000 students attend his multifamily seminar series each year and hundr
 eds attend his Magic of Multifamily boot camps, which Anna is a co-hos
 t for many of the events.\n\nAnna Myers also co-hosts a Real Estate In
 vestor Meetup in the Bay Area with over 800 members. In addition, she 
 is an AirBnB Superhost in two markets in the US. Related to Syndicatio
 n, Anna and Neal have partnered together to purchase500+units of apart
 ment projects in 2018, and are on track for another 250units in Q1 of 
 2019\n\nProperty portfolio (properties managed, co-owned with investor
 s)\n•216 unit Multifamily, Atlanta, GA\n•174 unit Multifamily, Atl
 anta GA\n•151 unit Multifamily, Dalton GA\n•138 unit Multifamily, 
 Jacksonville FL\n\n•Historic Duplex –Charleston, SC(wholly owned, 
 AirBnB Superhost)\n•3 Cottages –Oakhurst, CA (near Yosemite -AirBn
 B Superhost)\n•2 townhouses–Portland, OR(wholly owned–long term 
 rentals\nImportant: This is a live virtual online event. You only have
  one chance to join us LIVE. Don’t miss it!\n-----------------------
 ---------- Thursday, March 21st 6PM Pacific\nCLICK HERE TO REGISTER: h
 ttps://multifamilyu.com/evaluatingprops\n-----------------------------
 ----\n\nFor more information visit https://realty411mag.com/events/eva
 luating-multifamily-properties-reading-financials-amp-pitfal-3
DTSTART;TZID=America/Los_Angeles:20190321T180000
DTEND;TZID=America/Los_Angeles:20190321T190000
CATEGORIES:online, webinar
LOCATION:https://multifamilyu.com/evaluatingprops
WEBSITE:https://multifamilyu.com/evaluatingprops
URL:https://multifamilyu.com/evaluatingprops
CONTACT:
ORGANIZER;CN="Neal Bawa":https://realty411mag.com/profile/NealBawa
ATTACH;FMTTYPE="image/jpeg":https://storage.ning.com/topology/rest/1.0
 /file/get/1312606754?profile=original
ATTENDEE;ROLE=REQ-PARTICIPANT;PARTSTAT=ACCEPTED;RSVP=TRUE;CN="Neal Baw
 a":https://realty411mag.com/profile/NealBawa
END:VEVENT
END:VCALENDAR
