BEGIN:VCALENDAR
PRODID:NingEventWidget-v1
VERSION:2.0
METHOD:PUBLISH
BEGIN:VTIMEZONE
TZID:America/Los_Angeles
X-LIC-LOCATION:America/Los_Angeles
BEGIN:DAYLIGHT
TZOFFSETFROM:-0800
TZOFFSETTO:-0700
TZNAME:PDT
DTSTART:19700308T020000
RRULE:FREQ=YEARLY;BYMONTH=3;BYDAY=2SU
END:DAYLIGHT
BEGIN:STANDARD
TZOFFSETFROM:-0700
TZOFFSETTO:-0800
TZNAME:PST
DTSTART:19701101T020000
RRULE:FREQ=YEARLY;BYMONTH=11;BYDAY=1SU
END:STANDARD
END:VTIMEZONE
BEGIN:VEVENT
UID:5727801:Event:56878
DTSTAMP:20260421T130324Z
SUMMARY:Evaluating Multifamily Properties: Reading Financials &amp; Pi
 tfalls
DESCRIPTION:Join us online as we show you behind the scenes our invest
 ment property selection process. We will go through the stages involve
 d in assessing a property, the questions that we ask, the assumptions 
 we make, and how they influence the property analysis process.\nDuring
  This Live Webinar, You Will Learn ~ 4 important metrics you need to k
 now when evaluating a property and what values to look for\n~ The firs
 t \"make or break\" filters to analyze a deal, so you don't waste time
  and resources \n~ The \"Holy Trinity\" - what it is and why it's impo
 rtant\n~ 5 specific things you must look for in an operating memorandu
 m\n~ Operating memorandum information to be cautious about, and valida
 te externally\n~ 3 costly but common pitfalls to avoid\n--------------
 ------------------- Thursday, December 13th 4PM Pacific | 6PM Central\
 nCLICK HERE TO REGISTER: https://multifamilyu.com/evaluatingprops?ref=
 realty411&campaign=evaluatingprops-webinar-ad\n-----------------------
 ----------\n\nIf you want a proven system for buying multifamily prope
 rties, then this live training is for you!\nYou Will Discover:\nPrefac
 ing an Assessment: Identifying your goals Reading the Property Package
 : Keywords to watch out for\nVacancies: Understanding economic vacanci
 es vs physical vacancies.\nAvoiding Surprise Expenses: Asking the righ
 t questions can save hundreds of thousands of dollars.\nTeam: Resource
 s and partners you need on your team.\nNumbers: The nitty, the gritty,
  numbers game. \nUnderstanding Value-Add: The different types of value
  adds, costs vs returns\nCapital Stack: financing and assumptions\nAss
 essing Returns: Tying in with your goals\nMeet our presenter:\nAnna My
 ers Director, Acquisitions\nGrocapitus Investments\nAnna works very cl
 osely with Neal to underwrite properties and make offers for Neal’s 
 clients. Her background as a software developer gives her a distinct e
 dge when it comes to data-rich financial analysis. She is a graduate o
 f Neal’s Apartment Magic boot camp.\nImportant: This is a live virtu
 al online event. You only have one chance to join us LIVE. Don’t mis
 s it!\n--------------------------------- Thursday, December 13th 4PM P
 acific | 6PM Central\nCLICK HERE TO REGISTER: https://multifamilyu.com
 /evaluatingprops?ref=realty411&campaign=evaluatingprops-webinar-ad\n--
 -------------------------------\n\nFor more information visit https://
 realty411mag.com/events/evaluating-multifamily-properties-reading-fina
 ncials-amp-pitfal-2
DTSTART;TZID=America/Los_Angeles:20181213T180000
DTEND;TZID=America/Los_Angeles:20181213T190000
CATEGORIES:online, webinar
LOCATION:https://multifamilyu.com/evaluatingprops?ref=realty411&amp;ca
 mpaign=evaluatingprops-webinar-ad
WEBSITE:https://multifamilyu.com/evaluatingprops?ref=realty411&amp;cam
 paign=evaluatingprops-webinar-ad
URL:https://multifamilyu.com/evaluatingprops?ref=realty411&amp;campaig
 n=evaluatingprops-webinar-ad
CONTACT:
ORGANIZER;CN="Neal Bawa":https://realty411mag.com/profile/NealBawa
ATTACH;FMTTYPE="image/jpeg":https://storage.ning.com/topology/rest/1.0
 /file/get/223509431?profile=original
ATTENDEE;ROLE=REQ-PARTICIPANT;PARTSTAT=ACCEPTED;RSVP=TRUE;CN="Neal Baw
 a":https://realty411mag.com/profile/NealBawa
END:VEVENT
END:VCALENDAR
