BEGIN:VCALENDAR
PRODID:NingEventWidget-v1
VERSION:2.0
METHOD:PUBLISH
BEGIN:VTIMEZONE
TZID:America/Los_Angeles
X-LIC-LOCATION:America/Los_Angeles
BEGIN:DAYLIGHT
TZOFFSETFROM:-0800
TZOFFSETTO:-0700
TZNAME:PDT
DTSTART:19700308T020000
RRULE:FREQ=YEARLY;BYMONTH=3;BYDAY=2SU
END:DAYLIGHT
BEGIN:STANDARD
TZOFFSETFROM:-0700
TZOFFSETTO:-0800
TZNAME:PST
DTSTART:19701101T020000
RRULE:FREQ=YEARLY;BYMONTH=11;BYDAY=1SU
END:STANDARD
END:VTIMEZONE
BEGIN:VEVENT
UID:5727801:Event:26124
DTSTAMP:20260421T085109Z
SUMMARY:ESPN 1700 Radio & Lady Landlords of San Diego Jason Kennedy
DESCRIPTION:\nThe Lady Landlords of San Diego (LLoSD) co-owner Jason
  Kennedy will be on ESPN 1700 Radio talking real estate! 1-2pm. Tune i
 n, support the home team! Investing, Lending, Private money, Buy and H
 old Strategies,Flipping the whole 9!\n \n\nFor more information visit
  https://realty411mag.com/events/espn-1700-radio-lady-landlords-of-san
 -diego-jason-kennedy
DTSTART;TZID=America/Los_Angeles:20120824T130000
DTEND;TZID=America/Los_Angeles:20120824T140000
CATEGORIES:educational, real, estate, investing
LOCATION:San Diego
WEBSITE:http://www.sandiego1700.com/pages/listen_live_1700
URL:http://www.sandiego1700.com/pages/listen_live_1700
CONTACT:
ORGANIZER:Lady Landlords of San Diego & Big Block Realty
ATTACH;FMTTYPE="image/jpeg":http://storage.ning.com/topology/rest/1.0/
 file/get/2052999604?profile=original
ATTENDEE;ROLE=REQ-PARTICIPANT;PARTSTAT=ACCEPTED;RSVP=TRUE;CN="Lady Lan
 dlords of San Diego":https://realty411mag.com/profile/MsJasmineRWilloi
 s
END:VEVENT
END:VCALENDAR
