BEGIN:VCALENDAR
PRODID:NingEventWidget-v1
VERSION:2.0
METHOD:PUBLISH
BEGIN:VTIMEZONE
TZID:America/Los_Angeles
X-LIC-LOCATION:America/Los_Angeles
BEGIN:DAYLIGHT
TZOFFSETFROM:-0800
TZOFFSETTO:-0700
TZNAME:PDT
DTSTART:19700308T020000
RRULE:FREQ=YEARLY;BYMONTH=3;BYDAY=2SU
END:DAYLIGHT
BEGIN:STANDARD
TZOFFSETFROM:-0700
TZOFFSETTO:-0800
TZNAME:PST
DTSTART:19701101T020000
RRULE:FREQ=YEARLY;BYMONTH=11;BYDAY=1SU
END:STANDARD
END:VTIMEZONE
BEGIN:VEVENT
UID:5727801:Event:60904
DTSTAMP:20260421T100042Z
SUMMARY:Developing an Opportunity Zone Investment Strategy
DESCRIPTION:Join our guest speaker, Stefan Schimenes of Investreal, on
  a discussion about Developing an Opportunity Zone Investment Strategy
 .\nDuring This Live Webinar, You Will Learn\n- The tax benefits of OZ 
 investment - Various OZ investment strategies\n- Where to find Qualifi
 ed OZ projects\n- Aligning your project search with your investment st
 rategy\n- How to utilize data to make smart decisions\n- Which OZs hav
 ing promising data\n------------------------------ THURSDAY, JUNE 20th
  @6 PM PST\nCLICK HERE TO REGISTER: http://bit.ly/2KeTcyf\n-----------
 -------------------\nIs This Training For You?\nIf you are interested 
 in investing in Opportunity Zones, but want to get more information ab
 out how to find investment shovel-ready projects, mitigate risks, and 
 make smart data-driven decisions, this webinar will be beneficial.\nAl
 so, if you have already realized capital gains or will in the near fut
 ure and are rushing to beat the 180-day clock for rolling funds into a
  Qualified Opportunity Zone Fund, this session can empower you will th
 e necessary information to move forward.\nDon’t miss out!\nMEET OUR 
 PRESENTER\nSTEFAN SCHIMENES FOUNDER & CEO\nINVESTREAL\nStefan Schimene
 s is the CEO and founder of InvestReal, a data-driven real estate mark
 etplace that connects developers looking to raise capital for Opportun
 ity Zone projects with investors. The platform also has a robust data 
 analytics component, and utilizes machine learning to help users with 
 research and informed decision making.\nOften referred to as a serial 
 entrepreneur, Stefan has a passion for reinvigorating static industrie
 s with technology. He has founded several successful startups in Latin
  America and the US. Additionally, Stefan is no stranger to the concep
 t of disrupting real estate through online marketplaces. When he was t
 he Managing Director of Airbnb in Latin America, he catapulted the com
 pany from an unknown brand to the market leader in the region’s hosp
 itality industry. His efforts were integral to helping Airbnb becoming
  one of the most valuable startups in the world, worth an estimated $3
 1B.\nStefan earned his BA in International Relations from Fundação A
 rmando Alvares Penteado, and an MBA from Fundação Dom Cabral. In his
  personal time, Stefan works to impact social good on both a local and
  global scale. He is an active volunteer at his community church, and 
 has participated in relief projects in Africa and South America\n-----
 ------------------------- THURSDAY, JUNE 20th @6 PM PST\nCLICK HERE TO
  REGISTER: http://bit.ly/2KeTcyf\n------------------------------\n\nFo
 r more information visit https://realty411mag.com/events/developing-an
 -opportunity-zone-investment-strategy
DTSTART;TZID=America/Los_Angeles:20190620T180000
DTEND;TZID=America/Los_Angeles:20190620T190000
CATEGORIES:online, webinar
LOCATION:http://bit.ly/2KeTcyf
WEBSITE:http://bit.ly/2KeTcyf
URL:http://bit.ly/2KeTcyf
CONTACT:
ORGANIZER;CN="Neal Bawa":https://realty411mag.com/profile/NealBawa
ATTACH;FMTTYPE="image/jpeg":https://storage.ning.com/topology/rest/1.0
 /file/get/2879308077?profile=original
ATTENDEE;ROLE=REQ-PARTICIPANT;PARTSTAT=ACCEPTED;RSVP=TRUE;CN="Neal Baw
 a":https://realty411mag.com/profile/NealBawa
END:VEVENT
END:VCALENDAR
