BEGIN:VCALENDAR
PRODID:NingEventWidget-v1
VERSION:2.0
METHOD:PUBLISH
BEGIN:VTIMEZONE
TZID:America/Los_Angeles
X-LIC-LOCATION:America/Los_Angeles
BEGIN:DAYLIGHT
TZOFFSETFROM:-0800
TZOFFSETTO:-0700
TZNAME:PDT
DTSTART:19700308T020000
RRULE:FREQ=YEARLY;BYMONTH=3;BYDAY=2SU
END:DAYLIGHT
BEGIN:STANDARD
TZOFFSETFROM:-0700
TZOFFSETTO:-0800
TZNAME:PST
DTSTART:19701101T020000
RRULE:FREQ=YEARLY;BYMONTH=11;BYDAY=1SU
END:STANDARD
END:VTIMEZONE
BEGIN:VEVENT
UID:5727801:Event:58247
DTSTAMP:20260421T130934Z
SUMMARY:CRUSH IT!- 2019 Learn the Secret of Real Estate Success
DESCRIPTION: Michael Morrongiello's\nCRUSH IT!- 2019\nLearn the Secret
  of Real Estate Success\nMaking a million dollars in real estate is no
  longer an option... instead itâ€™s a necessity for surviving and thri
 ving during these crazy economic times!\nThe Good News; with dedicatio
 n and forethought, this current market is the perfect market to achiev
 e such a goal\nThis fantastic educational event will focus on Finding 
 deals, raising money, making offers, buying right, selling quickly, an
 d... how to overcome the most common fears or misconceptions that can 
 hold you back from making more money right now. Its for any beginning 
 or seasoned active real estate entrepreneurs. There literally is somet
 hing for everyone!\nCut your learning curve; learn insider tips to suc
 ceed with your Real Estate Investments geared to this specific market\
 nThis Workshop will Also Include \nA SPECIAL DATA MINING\nPresentation
  Discussion\n& User Friendly Data Provider\n(now you get easily obtain
  Phone #'s\nand Email Addresses for your Targeted Prospects!)\n\n Donâ
 €™t Miss this Opportunity to learn from a seasoned investor who is in 
 the â€śTrenchesâ€ť everyday and practices what he teaches and finally 
 achieve the Financial Success youâ€™ve always dreamed of!\n\nThis will
  be the only time this Class is Taught this year\n\nVERY Limited Seati
 ng - Donâ€™t Wait â€“ Sign up Now!\n\nWHEN: Saturday March 23rd,2019\n
 \nTIME: Registrations starts 8 Am\nClass Begins at 9 Am and will go ti
 ll 5 Pm\n\nWHERE: Best Western Corte Madera Inn,\n56 Madera Blvd, Cort
 e Madera, CA 94925\n\nAbout your Instructor:\n\nMichael Morrongiello â
 €”is an author, educator and active investor who specializes in Real E
 state & Real Estate \"Paper\" investments. He has bought, sold or held
  for investment; multiple properties in several states and thousands o
 f Real Estate secured Mortgages. His depth of knowledge and expertise 
 comes from many years of transactions. Many of his students have found
  their own focus and gone on to achieve tremendous success by implemen
 ting some of the techniques he teaches.\n\nFor More Details, Lodging I
 nfo, or to Register please CLICK HERE\n\nFor more information visit ht
 tps://realty411mag.com/events/crush-it-2019-learn-the-secret-of-real-e
 state-success
DTSTART;TZID=America/Los_Angeles:20190323T090000
DTEND;TZID=America/Los_Angeles:20190323T170000
CATEGORIES:education, workshop
LOCATION:Best Western Corte Madera Inn
WEBSITE:https://goo.gl/maps/E5KobX2iXgo
URL:https://goo.gl/maps/E5KobX2iXgo
CONTACT:707.996.411
ORGANIZER;CN="Michael Morrongiello":https://realty411mag.com/profile/M
 ichaelMorrongiello
ATTACH;FMTTYPE="image/jpeg":
ATTENDEE;ROLE=REQ-PARTICIPANT;PARTSTAT=ACCEPTED;RSVP=TRUE;CN="Michael 
 Morrongiello":https://realty411mag.com/profile/MichaelMorrongiello
END:VEVENT
END:VCALENDAR
