BEGIN:VCALENDAR
PRODID:NingEventWidget-v1
VERSION:2.0
METHOD:PUBLISH
BEGIN:VTIMEZONE
TZID:America/Los_Angeles
X-LIC-LOCATION:America/Los_Angeles
BEGIN:DAYLIGHT
TZOFFSETFROM:-0800
TZOFFSETTO:-0700
TZNAME:PDT
DTSTART:19700308T020000
RRULE:FREQ=YEARLY;BYMONTH=3;BYDAY=2SU
END:DAYLIGHT
BEGIN:STANDARD
TZOFFSETFROM:-0700
TZOFFSETTO:-0800
TZNAME:PST
DTSTART:19701101T020000
RRULE:FREQ=YEARLY;BYMONTH=11;BYDAY=1SU
END:STANDARD
END:VTIMEZONE
BEGIN:VEVENT
UID:5727801:Event:11104
DTSTAMP:20260421T100243Z
SUMMARY:CashFlow Game in Los Angeles
DESCRIPTION:\nBurbank/Pasadena Cashflow Masters July”Declare Your  I
 ndependence” Event\n\nIf you have any questions about the group or o
 ur upcoming events, \nCome join us this Tuesday night in Glendale for 
 our July Pasadena/Burbank Cashflow Masters event. We are a group of li
 ke-minded individuals that gather once every month to play Robert Kiyo
 saki’s CASHFLOW® 101 and CASHFLOW® 202 board games. By regularly p
 laying Cashflow, we can truly learn how the money game is played and b
 egin to change our thinking about what actions and investing strategie
 s are critical to  become financially free.\n\nOur events are free and
  are open to anyone who desires to learn how to create lasting  long t
 erm wealth. We only ask that you come with an empty stomach and order 
 some delicious Mexican food at the Acapulco restaurant. If you desire 
 to promote your business, network with like-minded people and learn th
 e skills and strategies for building the passive income streams you de
 sire, this is your group.\n\nWe look forward to meeting you on Tuesday
  night.CLICK HERE FOR INFO: http://cashflowgrouprealty411.eventbrite.c
 om/\nplease call (626) 524-2712\n \n\nFor more information visit http
 s://realty411mag.com/events/cashflow-game-in-los-angeles
DTSTART;TZID=America/Los_Angeles:20110719T183000
DTEND;TZID=America/Los_Angeles:20110719T213000
CATEGORIES:cashflow, game, networking
LOCATION:Acapulco Restaurant
WEBSITE:http://cashflowgrouprealty411.eventbrite.com/
URL:http://cashflowgrouprealty411.eventbrite.com/
CONTACT:(626) 524-2712
ORGANIZER:Doug Carver / Marketed by Realty411 Magazine
ATTACH;FMTTYPE="image/jpeg":http://storage.ning.com/topology/rest/1.0/
 file/get/2052999379?profile=original
ATTENDEE;ROLE=REQ-PARTICIPANT;PARTSTAT=ACCEPTED;RSVP=TRUE;CN="Realty41
 1 Magazine":https://realty411mag.com/profile/Realty411Magazine
END:VEVENT
END:VCALENDAR
