BEGIN:VCALENDAR
PRODID:NingEventWidget-v1
VERSION:2.0
METHOD:PUBLISH
BEGIN:VTIMEZONE
TZID:America/Los_Angeles
X-LIC-LOCATION:America/Los_Angeles
BEGIN:DAYLIGHT
TZOFFSETFROM:-0800
TZOFFSETTO:-0700
TZNAME:PDT
DTSTART:19700308T020000
RRULE:FREQ=YEARLY;BYMONTH=3;BYDAY=2SU
END:DAYLIGHT
BEGIN:STANDARD
TZOFFSETFROM:-0700
TZOFFSETTO:-0800
TZNAME:PST
DTSTART:19701101T020000
RRULE:FREQ=YEARLY;BYMONTH=11;BYDAY=1SU
END:STANDARD
END:VTIMEZONE
BEGIN:VEVENT
UID:5727801:Event:1809
DTSTAMP:20260421T100042Z
SUMMARY:Cash Flow Pros Expo
DESCRIPTION:Kent Clothier & Family are hosting a one time only\n3-Day 
 Bootcamp for Building an INCREDIBLE Real Estate\nBusiness...\n\nKent C
 lothier is the founder of Mid-South REIA,\nmany of you have had the op
 portunity to hear him speak.\nNow he is going to share ALL of his expe
 rtise to help you\nbuild your business.\n\nAnd it's F~R~E~E for the fi
 rst 25 registrations! They\nare only opening 75 seats and the other 50
  are $97\nper seat for the FULL 3-Days!\n\nSo grab your seats now!!!- 
 REGISTER BELOW!!!!\n\nHere are the details:\n\nEmbassy Suites Hotel - 
 Shady Grove, Memphis, TN\n\nAugust 27th 8:00 AM - 6:00 PM\n- Starting 
 Your Real Estate Business\n- Secrets to Purchasing Real Estate at a Di
 scount\n- Raising Capital Funding for Your Deals\n\nAugust 28th 8:00 A
 m - 6:00 PM\n- How to Market Your Real Estate Business\n- Secrets to B
 uilding a Buyers List and Selling\n- How to Properly Manage your Rehab
  Properties\n- How to Sell 20 Houses in a Day\n\nAugust 29th 9:00 Am -
  4:00 PM\n- How to Set up and Operate a Property Management Company\n-
  The Top 2 Secrets to Exploding Your Real Estate Business\n\n* All Mat
 erials will be provided\n** There are no houses for sale!\n*** Content
  only & the Event WILL BE Filmed!\n\nContact:\nChris Clothier\nMemphis
 Invest.com\ninfo@memphisinvest.com\n901-751-7191\n\nWhen:\nFriday Augu
 st 27, 2010 at 8:00 am\nto Sunday August 29, 2010 at 6:00 pm\n\nWhere:
 \nEmbassy Suites Memphis\n1022 South Shady Grove Road\nMemphis, TN 381
 20\n\nFor more information visit https://realty411mag.com/events/cash-
 flow-pros-expo-1
DTSTART;TZID=America/Los_Angeles:20100827T080000
DTEND;TZID=America/Los_Angeles:20100829T180000
CATEGORIES:rei, education, networking, and, "celebaration!"
LOCATION:Embassy Suites Memphis
WEBSITE:http://events.constantcontact.com/register/event?oeidk=a07e2zc
 plruc7f26bff
URL:http://events.constantcontact.com/register/event?oeidk=a07e2zcplru
 c7f26bff
CONTACT:901-751-7191
ORGANIZER:MemphisInvest.com
ATTACH;FMTTYPE="image/jpeg":http://storage.ning.com/topology/rest/1.0/
 file/get/2052998913?profile=original
ATTENDEE;ROLE=REQ-PARTICIPANT;PARTSTAT=ACCEPTED;RSVP=TRUE;CN="Realty41
 1 Magazine":https://realty411mag.com/profile/Realty411Magazine
END:VEVENT
END:VCALENDAR
