BEGIN:VCALENDAR
PRODID:NingEventWidget-v1
VERSION:2.0
METHOD:PUBLISH
BEGIN:VTIMEZONE
TZID:America/Los_Angeles
X-LIC-LOCATION:America/Los_Angeles
BEGIN:DAYLIGHT
TZOFFSETFROM:-0800
TZOFFSETTO:-0700
TZNAME:PDT
DTSTART:19700308T020000
RRULE:FREQ=YEARLY;BYMONTH=3;BYDAY=2SU
END:DAYLIGHT
BEGIN:STANDARD
TZOFFSETFROM:-0700
TZOFFSETTO:-0800
TZNAME:PST
DTSTART:19701101T020000
RRULE:FREQ=YEARLY;BYMONTH=11;BYDAY=1SU
END:STANDARD
END:VTIMEZONE
BEGIN:VEVENT
UID:5727801:Event:10323
DTSTAMP:20260421T113533Z
SUMMARY:California Investor Summit 2011
DESCRIPTION:Our Southern-California Based Investor Magazine\nIs Coming
  to Northern California! ~ 1 DAY ONLY\n\nJoin Us at Our California Inv
 estor Wealth Summit\n\nSponsored by Realty411 & Real Estate WEALTH mag
 azine\n\n* Serving Investors Nationwide Since 2007 *\n\nGUESTS RECEIVE
  OUR NEWEST ISSUE & BACK ISSUES\nLots of FREE Gifts, Raffles, Prizes, 
 Plus Learn about Your Local REIAs\n\nMingle with Vendors/Brokers/Whole
 salers\n\n& Property Managers From EMERGING MARKETS!\n\n>>> TN, AL, SC
 , IN, OH, AZ, TX, & MS\n\nAlso featuring great DEALS in CA starting at
  $55K!\n\nCome Mingle with Local REIAs\n\nand Learn About their Upcomi
 ng Events\n\nNetwork with Local and Out-of-Town Investors, Area Busine
 ss Owners & Real Estate Industry Leaders.\n\nRealty411 and Real Estate
  Wealth magazine are available online on 16 websites & reaches investo
 rs, brokers & high-net worth individuals around the U.S. and abroad\n\
 nhttp://californiainvestorwealthsummit.eventbrite.com/\n\nFor more inf
 ormation visit https://realty411mag.com/events/california-investor-sum
 mit
DTSTART;TZID=America/Los_Angeles:20110827T100000
DTEND;TZID=America/Los_Angeles:20110827T160000
CATEGORIES:expo, for, investors, and, "realtors/brokers"
LOCATION:Crown Plaza Hotel Burlingame/SFO
WEBSITE:http://californiainvestorwealthsummit.eventbrite.com/
URL:http://californiainvestorwealthsummit.eventbrite.com/
CONTACT:310-499-9545
ORGANIZER;CN="Realty411 Magazine":https://realty411mag.com/profile/Rea
 lty411Magazine
ATTACH;FMTTYPE="image/jpeg":http://storage.ning.com/topology/rest/1.0/
 file/get/2052999157?profile=original
ATTENDEE;ROLE=REQ-PARTICIPANT;PARTSTAT=ACCEPTED;RSVP=TRUE;CN="Linda Pl
 iagas":https://realty411mag.com/profile/LindaPliagas
ATTENDEE;ROLE=REQ-PARTICIPANT;PARTSTAT=ACCEPTED;RSVP=TRUE;CN="Robert C
 hurch":https://realty411mag.com/profile/RobertChurch
ATTENDEE;ROLE=REQ-PARTICIPANT;PARTSTAT=ACCEPTED;RSVP=TRUE;CN="richard 
 smith":https://realty411mag.com/profile/richardsmith
ATTENDEE;ROLE=REQ-PARTICIPANT;PARTSTAT=ACCEPTED;RSVP=TRUE;CN="Realty41
 1 Magazine":https://realty411mag.com/profile/Realty411Magazine
ATTENDEE;ROLE=REQ-PARTICIPANT;PARTSTAT=TENTATIVE;RSVP=TRUE;CN="Fernand
 o Young":https://realty411mag.com/profile/FernandoYoung
END:VEVENT
END:VCALENDAR
