BEGIN:VCALENDAR
PRODID:NingEventWidget-v1
VERSION:2.0
METHOD:PUBLISH
BEGIN:VTIMEZONE
TZID:America/Los_Angeles
X-LIC-LOCATION:America/Los_Angeles
BEGIN:DAYLIGHT
TZOFFSETFROM:-0800
TZOFFSETTO:-0700
TZNAME:PDT
DTSTART:19700308T020000
RRULE:FREQ=YEARLY;BYMONTH=3;BYDAY=2SU
END:DAYLIGHT
BEGIN:STANDARD
TZOFFSETFROM:-0700
TZOFFSETTO:-0800
TZNAME:PST
DTSTART:19701101T020000
RRULE:FREQ=YEARLY;BYMONTH=11;BYDAY=1SU
END:STANDARD
END:VTIMEZONE
BEGIN:VEVENT
UID:5727801:Event:60211
DTSTAMP:20260421T130756Z
SUMMARY:BREAKING THE CODE: How to Take Advantage of Tax Reform as a Re
 al Estate Investor
DESCRIPTION:Join guest presenters Matt Macfarland and Amanda Han of Ke
 ystone CPA Inc., as they discuss how to take advantage of tax reform a
 s a Real Estate Investor.\nDiscussion about: TAX REFORM OVERVIEW\nWHAT
  ARE THE IMPORTANT CHANGES\nHOW TO TAKE ADVANTAGE OF THE NEW ENTITY TA
 X BREAK\n----------------------------- WEDNESDAY MAY 1st @ 6PM PACIFIC
 \nCLICK HERE TO REGISTER: https://multifamilyu.com/tax-reform\n-------
 ----------------------\nWHAT YOU'LL LEARN An overview of new tax rates
  and it’s true impact on you\nImportant changes to personal deductio
 ns you need to know\nNew opportunities and pitfalls for business & rea
 l estate investors\nWhat entity to use to take advantage of the new en
 tity tax break\nMEET OUR PRESENTERS:\nMATT MACFARLAND Executive Managi
 ng Director\nKeystone CPA, Inc.\nMatt has over 20 years of experience 
 in public accounting as a CPA & Tax Strategist. He has worked for both
  the “Big 4” and regional CPA firms. While at Deloitte, Matt serve
 d as a Tax Manager in their Private Client Advisor (PCA) group where h
 e focused his expertise in tax planning and compliance for high net wo
 rth individuals, business owners, commercial real estate investors, an
 d professional athletes.\nHis diverse portfolio of clients included re
 al estate, manufacturing, retail, technology, and professional service
 s industries. In addition to his experience at Deloitte, Matt furthere
 d his career with 3 years at a regional CPA firm affiliated with world
  renowned authors and speakers Diane Kennedy and Robert Kiyosaki.\nAs 
 a Managing Director at Keystone CPA, Matt provides consulting and stra
 tegic planning services specifically developed for real estate investo
 rs, small business owners, and wealthy individuals. Matt teaches creat
 ive tax saving strategies to taxpayers and other CPAs nation-wide and 
 is a frequent tax contributor to NBC News Radio's Smart Money Show.\nM
 att is a graduate of UCLA and received his Master’s Degree in Busine
 ss Taxation from USC. He is certified by the CA State Board of Account
 ancy and is a member of the prestigious American Institute of Certifie
 d Public Accountants (AICPA).\nAMANDA HAN  Assistant Managing Director
 \nKeystone CPA, Inc.\nAmanda has over 18 years of experience as a CPA 
 with special emphasis in real estate, self-directed investing, and ind
 ividual tax planning. Amanda has extensive \"Big Four\" public account
 ing experience in the Lead Tax Group servicing clients in the real est
 ate industry. She provided tax consulting and tax compliance for compa
 nies engaged in land development, residential development, medical fac
 ilities, and conglomerate shopping malls.\nSubsequent to her work at D
 eloitte, Amanda served in the Corporate Tax Department for an internat
 ional Fortune 500 Company in the high tech industry and was responsibl
 e for quarterly provisions and various aspects of SEC reporting. Amand
 a has numerous years of experience in working with international compa
 nies in terms of federal and multi-state tax planning as well as audit
  representation and resolution.\nAmanda is a frequent contributor and 
 educator to some of the nation’s top investment companies and is a l
 eading expert on retirement investing. Amanda’s cutting-edge tax str
 ategies have been featured in prominent publications including TIME Ma
 gazine Online, Bigger Pockets.com, Realtor Magazine, and AllBusiness.c
 om, a Dunn & Bradstreet Company. She is certified by the CA State Boar
 d of Accountancy and is a member of the prestigious American Institute
  of Certified Public Accountants (AICPA) practicing in all 50 U.S. Sta
 tes.\n\nFor more information visit https://realty411mag.com/events/bre
 aking-the-code-how-to-take-advantage-of-tax-reform-as-a-real
DTSTART;TZID=America/Los_Angeles:20190501T180000
DTEND;TZID=America/Los_Angeles:20190501T190000
CATEGORIES:online, webinar
LOCATION:https://multifamilyu.com/tax-reform
WEBSITE:https://multifamilyu.com/tax-reform
URL:https://multifamilyu.com/tax-reform
CONTACT:
ORGANIZER;CN="Neal Bawa":https://realty411mag.com/profile/NealBawa
ATTACH;FMTTYPE="image/jpeg":https://storage.ning.com/topology/rest/1.0
 /file/get/2226206968?profile=original
ATTENDEE;ROLE=REQ-PARTICIPANT;PARTSTAT=ACCEPTED;RSVP=TRUE;CN="Neal Baw
 a":https://realty411mag.com/profile/NealBawa
END:VEVENT
END:VCALENDAR
