BEGIN:VCALENDAR
PRODID:NingEventWidget-v1
VERSION:2.0
METHOD:PUBLISH
BEGIN:VTIMEZONE
TZID:America/Los_Angeles
X-LIC-LOCATION:America/Los_Angeles
BEGIN:DAYLIGHT
TZOFFSETFROM:-0800
TZOFFSETTO:-0700
TZNAME:PDT
DTSTART:19700308T020000
RRULE:FREQ=YEARLY;BYMONTH=3;BYDAY=2SU
END:DAYLIGHT
BEGIN:STANDARD
TZOFFSETFROM:-0700
TZOFFSETTO:-0800
TZNAME:PST
DTSTART:19701101T020000
RRULE:FREQ=YEARLY;BYMONTH=11;BYDAY=1SU
END:STANDARD
END:VTIMEZONE
BEGIN:VEVENT
UID:5727801:Event:25952
DTSTAMP:20260421T100854Z
SUMMARY:Behind the Curtains of Out-of-State Real Estate Investing (The
  WORKSHOP!)
DESCRIPTION:You asked for it!\nBehind the Curtains of Out-of-State Rea
 l Estate Investing       (The WORKSHOP!)\nFor one weekend ONLY,  S
 aturday September 8th from 9am - 2pm we will be getting personal and s
 haring the do's and do NOTs of out-of-state investing.\nJasmine and Ja
 son will show you how to get deep into the research needed so you too 
 can find out what is really needed to survive in your investment area.
   Support materials will be provided as well as a continental break
 fast. Lunch opportunities surrounding and within the hotel.\nIf you 
 enjoyed Jason's techniques on how to scout out and qualify investment 
 areas, you do NOT want to miss this event.  He will be showcasing act
 ual examples of current contracts in his investment area, and discuss 
 how YOU to can get involved with Real Estate Investing without breakin
 g the bank.\nThe curtain will be lifted once again, by the team as Jas
 mine Willois discusses what else YOU should be asking and considering 
 BEFORE closing on and investment out-of-state. Her experience based kn
 owledge will blow you away, and help YOU protect your cash flow projec
 tions!\nInternet access will be available! Bring your tablet, notebook
  or laptop, we are getting INTERACTIVE.\nBRING A FRIEND, this workshop
  will not be offered again this year, and has been described as delive
 ring content not found at any other seminar around.\nIf you've ever be
 en curious as to where to start, or asked yourself, \"what are the key
 s to successful out of state investing,\" then this is your meeting.\n
 Whether you already own, or are considering an out-of-state investment
 , come hear Jason and Jasmine discuss their motto, \"Live where you 
 want, INVEST where it's SMART!\"\nTopics & Q&A include:\nHow to determ
 ine where to invest your real estate money, based on your comfort zone
 .\nWhat's changed since the real estate market crashed?\nCome hear Jas
 mine & Jason discuss what most wholesalers consider taboo!\n\nFor more
  information visit https://realty411mag.com/events/behind-the-curtains
 -of-out-of-state-real-estate-investing-the
DTSTART;TZID=America/Los_Angeles:20120908T090000
DTEND;TZID=America/Los_Angeles:20120908T140000
CATEGORIES:investor, workshop, education
LOCATION:Holiday Inn Murphy Canyon
WEBSITE:http://www.meetup.com/Lady-Landlords-of-San-Diego/events/80030
 242/
URL:http://www.meetup.com/Lady-Landlords-of-San-Diego/events/80030242/
CONTACT:(760) 896-4808
ORGANIZER;CN="Lady Landlords of San Diego":https://realty411mag.com/pr
 ofile/MsJasmineRWillois
ATTACH;FMTTYPE="image/jpeg":http://storage.ning.com/topology/rest/1.0/
 file/get/2052999913?profile=original
ATTENDEE;ROLE=REQ-PARTICIPANT;PARTSTAT=ACCEPTED;RSVP=TRUE;CN="Lady Lan
 dlords of San Diego":https://realty411mag.com/profile/MsJasmineRWilloi
 s
END:VEVENT
END:VCALENDAR
