BEGIN:VCALENDAR
PRODID:NingEventWidget-v1
VERSION:2.0
METHOD:PUBLISH
BEGIN:VTIMEZONE
TZID:America/Los_Angeles
X-LIC-LOCATION:America/Los_Angeles
BEGIN:DAYLIGHT
TZOFFSETFROM:-0800
TZOFFSETTO:-0700
TZNAME:PDT
DTSTART:19700308T020000
RRULE:FREQ=YEARLY;BYMONTH=3;BYDAY=2SU
END:DAYLIGHT
BEGIN:STANDARD
TZOFFSETFROM:-0700
TZOFFSETTO:-0800
TZNAME:PST
DTSTART:19701101T020000
RRULE:FREQ=YEARLY;BYMONTH=11;BYDAY=1SU
END:STANDARD
END:VTIMEZONE
BEGIN:VEVENT
UID:5727801:Event:819
DTSTAMP:20260421T113422Z
SUMMARY:Bay Area Wealth Summit with Realty411 Magazine
DESCRIPTION:THIS EVENT WILL GO DOWN IN HISTORY...\n\nRealty411 Magazin
 e Presents:\n\n** A Summer Wealth Summit for Creative Real Estate Inve
 stors **\n\nTHE VERY FIRST EXPO JOINING SO CAL AND NOR CAL INVESTORS!!
 \n\nhttp://summerwealthsummitbayarea.eventbrite.com/\n\nA Perfect Even
 t for Those Interested in Growing their Wealth through CREATIVE REAL E
 STATE INVESTING!\n\n* Don't Miss this FREE Educational Event * PRICELE
 SS Information!\n\nMINGLE WITH VENDORS!! MEET THE GURUS ONE ON ONE!!\n
 \nFree Event to Get You Started for SU$$ESS! Highlights Include:\n\n* 
 Profit Out of State by Owning Cash Flowing Rental Properties - A Stres
 s-Free method presented by RBS Homes, Inc.\n\n* Learn How to BUY AND S
 ELL real estate on eBay with Chris Bowser from Dave Lindahl's REMentor
 .com!!\n\n* CASH FLOW TODAY AND TOMORROW WITH Investor Nation from Mem
 phis, TN!\n\n* Learn About Buying Property WITHOUT Having to deal with
  Tenants or Toilets with Triple Net Houses!\n\n* FIX N FLIP or BUY & H
 OLD in Kansas City, Mo, with Dan Reedy of Missouri Real Estate Exchang
 e!\n\n** SPECIAL TRIBUTE TO:\nKathy Fettke founder of Real WEALTH Netw
 ork, one of the most influential women in real estate investing today!
 \n\nMORE SPEAKERS TO BE ANNOUNCED!!\n\nhttp://summerwealthsummitbayare
 a.eventbrite.com/\n\nGUESTS RECEIVE FREE BOOKS, DVDs & MORE!\n\nPLUS, 
 Tips to Skyrocket Your Mindset & Portfolio!\n\n*LIMITED SPACE! ** MUST
  RESERVE SEAT IN ADVANCE*\n\nVIEW SCENES FROM OUR LAST EVENT BELOW OR 
 CLICK HERE:\n\nhttp://animoto.com/play/mabKISzVEEQKn8rbuKEe5Q\n\nFor m
 ore information visit https://realty411mag.com/events/bay-area-wealth-
 summit-with
DTSTART;TZID=America/Los_Angeles:20100626T080000
DTEND;TZID=America/Los_Angeles:20100626T170000
CATEGORIES:expo, for, investors
LOCATION:The Holiday Inn
WEBSITE:http://summerwealthsummitbayarea.eventbrite.com/
URL:http://summerwealthsummitbayarea.eventbrite.com/
CONTACT:310-499-9545
ORGANIZER;CN="Realty411 Magazine":https://realty411mag.com/profile/Rea
 lty411Magazine
ATTACH;FMTTYPE="image/jpeg":http://storage.ning.com/topology/rest/1.0/
 file/get/1917454240?profile=original
ATTENDEE;ROLE=REQ-PARTICIPANT;PARTSTAT=ACCEPTED;RSVP=TRUE;CN="Gina Was
 hburn":https://realty411mag.com/profile/GinaWashburn
ATTENDEE;ROLE=REQ-PARTICIPANT;PARTSTAT=ACCEPTED;RSVP=TRUE;CN="Realty41
 1 Magazine":https://realty411mag.com/profile/Realty411Magazine
ATTENDEE;ROLE=REQ-PARTICIPANT;PARTSTAT=TENTATIVE;RSVP=TRUE;CN="Eric Mi
 tchell":https://realty411mag.com/profile/EricMitchell
END:VEVENT
END:VCALENDAR
