BEGIN:VCALENDAR
PRODID:NingEventWidget-v1
VERSION:2.0
METHOD:PUBLISH
BEGIN:VTIMEZONE
TZID:America/Los_Angeles
X-LIC-LOCATION:America/Los_Angeles
BEGIN:DAYLIGHT
TZOFFSETFROM:-0800
TZOFFSETTO:-0700
TZNAME:PDT
DTSTART:19700308T020000
RRULE:FREQ=YEARLY;BYMONTH=3;BYDAY=2SU
END:DAYLIGHT
BEGIN:STANDARD
TZOFFSETFROM:-0700
TZOFFSETTO:-0800
TZNAME:PST
DTSTART:19701101T020000
RRULE:FREQ=YEARLY;BYMONTH=11;BYDAY=1SU
END:STANDARD
END:VTIMEZONE
BEGIN:VEVENT
UID:5727801:Event:25971
DTSTAMP:20260421T100638Z
SUMMARY:Atlanta Buying Tour Sept 14-16 2012
DESCRIPTION:Come join the Summit team on our Atlanta area single famil
 y turn-key cash flow property tour. This is a great opportunity to see
  the neighborhoods and add high cash flow real estate investments to y
 our portfolio.\nAll attendees will have the chance to tour our homes f
 or sale and meet our professional team.\nThe Atlanta housing market is
  still a buyer’s market. Inventory levels are lower than the last ye
 ar. However, home prices are still at the lowest since the 1980′s.\n
 Atlanta, with no natural boundaries, is the largest metropolitan area 
 in Georgia. It is the hub of economic activity in the southeastern par
 t of the US. The Southeast is the 4th largest economy in the world.\nT
 he city of Atlanta and the surrounding metro areas present an excellen
 t investment opportunity for real estate investors.\nProperties priced
  from $65K to $99K  Quality renovations \nHighly desirable neighborhoo
 ds \n- top rated school districts \n- low crime \n- near centers of ec
 onomic growth \nTour Schedule\nFriday, Sept 14\n6:30-8:30 PM Welcome r
 eception\nSaturday, Sept 15 9-11 AM Pre-tour workshop and investor tra
 ining \n11:30-3:30 Lunch and property tour \n6:30 PM Benefit dinner fo
 r Community Share charity\nSunday, Sept 16 (optional) Spend the day wi
 th us rehabbing a project house for Community Share\n\nFor more inform
 ation visit https://realty411mag.com/events/atlanta-buying-tour-sept-1
 4-16-2012
DTSTART;TZID=America/Los_Angeles:20120914T180000
DTEND;TZID=America/Los_Angeles:20120916T160000
CATEGORIES:cashflow, turnkey, properties, buying, tour
LOCATION:Renaissance Concourse Atlanta Airport Hotel
WEBSITE:http://www.summitassetsgroup.com/tours
URL:http://www.summitassetsgroup.com/tours
CONTACT:888-298-0652
ORGANIZER:Lori Greymont Summit Assets Group
ATTACH;FMTTYPE="image/jpeg":
ATTENDEE;ROLE=REQ-PARTICIPANT;PARTSTAT=ACCEPTED;RSVP=TRUE;CN="Lori Gre
 ymont":https://realty411mag.com/profile/LoriGreymont
END:VEVENT
END:VCALENDAR
