BEGIN:VCALENDAR
PRODID:NingEventWidget-v1
VERSION:2.0
METHOD:PUBLISH
BEGIN:VTIMEZONE
TZID:America/Los_Angeles
X-LIC-LOCATION:America/Los_Angeles
BEGIN:DAYLIGHT
TZOFFSETFROM:-0800
TZOFFSETTO:-0700
TZNAME:PDT
DTSTART:19700308T020000
RRULE:FREQ=YEARLY;BYMONTH=3;BYDAY=2SU
END:DAYLIGHT
BEGIN:STANDARD
TZOFFSETFROM:-0700
TZOFFSETTO:-0800
TZNAME:PST
DTSTART:19701101T020000
RRULE:FREQ=YEARLY;BYMONTH=11;BYDAY=1SU
END:STANDARD
END:VTIMEZONE
BEGIN:VEVENT
UID:5727801:Event:59709
DTSTAMP:20260421T113924Z
SUMMARY:A Simple 3 Step Approach To Buying Below Market Multifamily Pr
 operties For Higher Profits
DESCRIPTION:...and how you can save time leveraging technology\nAre yo
 u using old, ineffective deal analysis approaches that are costly, lab
 or intensive, and generate poor results leading to poor investment dec
 isions?\nAre you a value-add investor that would love a fast way to de
 termine if a deal is one where you can make money or not?\nOn this web
 inar with our guest presenter, Marc Rutzen of ENODO, we will show you 
 a blazingly fast way to analyze deals and make better investment decis
 ions backed by data-driven assumptions.\n-----------------------------
 --------- Tuesday, April 9th at 6PM Pacific\nClick here to register: h
 ttps://multifamilyu.com/enodo\n--------------------------------------\
 nRESEARCH - Quickly find properties operating below market value COMPA
 RE - Identify properties with similar characteristics and rent\nUNDERW
 RITE - Enter revenue and expense assumptions to quickly find a propert
 ies value\nWHAT YOU'LL LEARN ~ A step-by-step valuation method for mul
 tifamily properties, so you can identify and analyze the best deals (a
 nd quickly underwrite undervalued investment opportunities in any mark
 et)\n~ How to accurately predict market rents, amenity values, rent co
 mps, and operating expenses for any multifamily property (in less time
  and with less hassle)\n~ Rent Survey/Rents Comps - Instantly survey t
 he most similar multifamily properties (with real-time updates) \n~ Re
 nt Prediction/Calculation - An accurate, data-driven approach to calcu
 lating optimal rent for pre and post renovation scenarios with individ
 ual amenity value\n~ Expense Benchmark Analysis - An automated approac
 h to learn if you are under or over performing for each individual exp
 ense line item\n~ An exciting new tool that systematically identifies 
 undervalued multifamily properties (and recently identified over 9,000
  undervalued opportunities)\nNote: You don't have to be present for th
 e live webinar to get all the benefits from this awesome training. Reg
 ister and watch the replay video at your convenience. We know your lif
 e is busy, and we design our training to work within your schedule.\n-
 ------------------------------------- Tuesday, April 9th at 6PM Pacifi
 c\nClick here to register: https://multifamilyu.com/enodo\n-----------
 ---------------------------\n\nFor more information visit https://real
 ty411mag.com/events/a-simple-3-step-approach-to-buying-below-market-mu
 ltifamily
DTSTART;TZID=America/Los_Angeles:20190409T180000
DTEND;TZID=America/Los_Angeles:20190409T190000
CATEGORIES:online, webinar
LOCATION:https://multifamilyu.com/enodo
WEBSITE:https://multifamilyu.com/enodo
URL:https://multifamilyu.com/enodo
CONTACT:
ORGANIZER;CN="Neal Bawa":https://realty411mag.com/profile/NealBawa
ATTACH;FMTTYPE="image/jpeg":https://storage.ning.com/topology/rest/1.0
 /file/get/1765642404?profile=original
ATTENDEE;ROLE=REQ-PARTICIPANT;PARTSTAT=ACCEPTED;RSVP=TRUE;CN="Neal Baw
 a":https://realty411mag.com/profile/NealBawa
END:VEVENT
END:VCALENDAR
