BEGIN:VCALENDAR
PRODID:NingEventWidget-v1
VERSION:2.0
METHOD:PUBLISH
BEGIN:VTIMEZONE
TZID:America/Los_Angeles
X-LIC-LOCATION:America/Los_Angeles
BEGIN:DAYLIGHT
TZOFFSETFROM:-0800
TZOFFSETTO:-0700
TZNAME:PDT
DTSTART:19700308T020000
RRULE:FREQ=YEARLY;BYMONTH=3;BYDAY=2SU
END:DAYLIGHT
BEGIN:STANDARD
TZOFFSETFROM:-0700
TZOFFSETTO:-0800
TZNAME:PST
DTSTART:19701101T020000
RRULE:FREQ=YEARLY;BYMONTH=11;BYDAY=1SU
END:STANDARD
END:VTIMEZONE
BEGIN:VEVENT
UID:5727801:Event:58456
DTSTAMP:20260422T020117Z
SUMMARY:2019 Real Estate Trends: The Best Cities and States For Real E
 state in 2019
DESCRIPTION:Neal Bawa once again delivers a power-packed talk about ke
 y trends you ABSOLUTELY MUST know about before you start planning your
  2019 and beyond investments. This is a not-to-be missed investment pr
 esentation for both the analytical and the opportunistic investor. Hol
 d on to your seat because the presentation is fast, fact-driven, and e
 ntertaining.\n---------------------------------- Wednesday, February 2
 7th, 2019\n9:00AM Pacific | 10:00AM Mountain \n11:00AM Central | 12:00
 PM Eastern \nClick Here To Register: https://multifamilyu.com/trends-i
 ra/\n----------------------------------\nThe Booming US and World Econ
 omies, Jobs, Inflation, Unemployment, Consumer Confidence  Can they su
 pport more growth? What to expect in 2019, and beyond...\nThe Looming 
 Impact of Rising Rates  including how many interest rate hikes are lik
 ely in 2019 and when the shockwaves will hit real estate the hardest. 
 This is an important consideration for making buy, hold, and sell deci
 sions.\nThe Story of Apartment Trends in 10 Dynamic Charts  Why does w
 orkforce housing rent growth continue to be far above both the 10 year
  and the 30 year trend lines, this late in the cycle?\nBest Cities in 
 the US for Real Estate in 2019 Single Family, Multifamily and New Deve
 lopment. Top picks from Forbes, Realtor.com and Yardi.\nWhat are the b
 est markets to invest in 2019, in Neal's opinion?  ...which city and t
 he reasons why it was chosen.\nNEAL WILL REVEAL THE \"TOP 10\" CITIES 
 SHOOT-OUT RESULTS Rankings from Forbes, Realtor.com and Yardi Matrix w
 ill make city and state trends crystal clear. Before you leave, you wi
 ll know the best cities in the U.S. to invest in, according to the ana
 lysis from the top Real Estate companies in the country.\nTOP 10 Cash 
 Flow  These areas are poised for strong rent growth, providing excelle
 nt cash flow in 2018 and beyond.\nTOP 10 Metros For Fix & Flip  These 
 hot areas are known for having a lot of cash buyers. One of the CA cit
 ies on this top 10 list was a big surprise.\nTOP 10 Appreciation Metro
 s  If you are a buy and hold investor looking for price growth, check 
 out these strong metros.\n---------------------------------- Wednesday
 , February 27th, 2019\n9:00AM Pacific | 10:00AM Mountain \n11:00AM Cen
 tral | 12:00PM Eastern \nClick Here To Register: https://multifamilyu.
 com/trends-ira/\n----------------------------------\nPLUS, NEAL GOES O
 UT ON A LIMB AND MAKES 2 BOLD PREDICTIONS\nDiscover His Top Underperfo
 rming city that could go supernova this year... Neal's top pick is a t
 op market for new construction and with a 52% YoY growth in new develo
 pment spend, it means this city is poised for a good year ahead....\nA
 nd his pick for #1 city in the U.S. to Invest in... This metro has bee
 n Neal's pick for #1 market in the U.S. for Single Family and Multifam
 ily investing - 2nd year in a row!\nMEET OUR PRESENTER:\nNeal Bawa is 
 CEO / Founder at Grocapitus, a commercial real estate investment compa
 ny. Neal sources, negotiates and acquires Commercial properties across
  the U.S., for 300+ investors. Current portfolio over 1800 units/beds,
  projected to be at 3,000 in 12 months. The portfolio includes Multifa
 mily and student housing properties in 8 U.S. states.\nNeal speaks at 
 Multifamily events, IRA events &&meetups across the country. Nearly 4,
 000 students attend his multifamily seminar series each year and hundr
 eds attend his Magic of Multifamily boot camps. Neal is the co-founder
  of the largest Multifamily Investing Meetup network in the U.S. (BAMF
 ), a group of investors that has over 4000 members.\nNeal is a backyar
 d tomato farmer and a protein diet health nut. He believes in positivi
 ty and Karma, is passionate about cricket and about the enormous poten
 tial of self-driving electric vehicles to solve the global climate cri
 sis.\n\nFor more information visit https://realty411mag.com/events/201
 9-real-estate-trends-the-best-cities-and-states-for-real
DTSTART;TZID=America/Los_Angeles:20190227T180000
DTEND;TZID=America/Los_Angeles:20190227T190000
CATEGORIES:online, webinar
LOCATION:https://multifamilyu.com/trends-ira/
WEBSITE:https://multifamilyu.com/trends-ira/
URL:https://multifamilyu.com/trends-ira/
CONTACT:
ORGANIZER;CN="Neal Bawa":https://realty411mag.com/profile/NealBawa
ATTACH;FMTTYPE="image/jpeg":https://storage.ning.com/topology/rest/1.0
 /file/get/1063291318?profile=original
ATTENDEE;ROLE=REQ-PARTICIPANT;PARTSTAT=ACCEPTED;RSVP=TRUE;CN="Tyrone B
 rackens":https://realty411mag.com/profile/TyroneBrackens
ATTENDEE;ROLE=REQ-PARTICIPANT;PARTSTAT=ACCEPTED;RSVP=TRUE;CN="Neal Baw
 a":https://realty411mag.com/profile/NealBawa
END:VEVENT
END:VCALENDAR
