BEGIN:VCALENDAR
PRODID:NingEventWidget-v1
VERSION:2.0
METHOD:PUBLISH
BEGIN:VTIMEZONE
TZID:America/Los_Angeles
X-LIC-LOCATION:America/Los_Angeles
BEGIN:DAYLIGHT
TZOFFSETFROM:-0800
TZOFFSETTO:-0700
TZNAME:PDT
DTSTART:19700308T020000
RRULE:FREQ=YEARLY;BYMONTH=3;BYDAY=2SU
END:DAYLIGHT
BEGIN:STANDARD
TZOFFSETFROM:-0700
TZOFFSETTO:-0800
TZNAME:PST
DTSTART:19701101T020000
RRULE:FREQ=YEARLY;BYMONTH=11;BYDAY=1SU
END:STANDARD
END:VTIMEZONE
BEGIN:VEVENT
UID:5727801:Event:57110
DTSTAMP:20260421T130755Z
SUMMARY:2018 Real Estate Trends: Critical Updates and Top 10 Shootout
DESCRIPTION:Neal Bawa once again delivers a power-packed talk about ke
 y trends you ABSOLUTELY MUST know about before you start planning your
  2018 and beyond investments. This is a not-to-be missed investment pr
 esentation for both the analytical and the opportunistic investor. Hol
 d on to your seat because the presentation is fast, fact-driven, and e
 ntertaining.\n--------------------------------------------------------
 ------------- TONIGHT, December 13th 6:00 PM Pacific | 9:00 PM Eastern
 \nClick here to Register: https://multifamilyu.com/trends?ref=realty41
 1\n-------------------------------------------------------------------
 --\nWE'LL REVEAL MAJOR REAL ESTATE TRENDS...\nThe Booming US and World
  Economies Can they support more growth? What to expect in 2018, 2019,
  and beyond...\nThe Looming Impact of Rising Rates Including how many 
 interest rate hikes are likely in 2018 and when the shockwaves will hi
 t real estate the hardest. This is an important consideration for maki
 ng buy, hold, and sell decisions.\nThe Real Estate Trifecta What it is
  and the jolt it's already having on 2018 real estate prices all over 
 the country.\nThe Mass Exodus That Has Quietly Started... and will hav
 e a big impact on real estate. It is reshaping the country, so make su
 re you factor this in your investment decisions. It will be very costl
 y to get caught on the wrong side of this little known trend.\nWhich C
 ities Have Rebounded To Pre-Recession Peak Prices? ...and where does C
 alifornia stand in the list?\nThe Top 3 Likely Picks For Amazon’s HQ
 2 With five billion dollars and 50,000 jobs at stake, HQ2 can change a
  city’s future.\nNEAL WILL REVEAL THE \"TOP 10\" CITIES SHOOT-OUT RE
 SULTS Rankings from Trulia, Zillow, Forbes, Realtor.com, ApartmentList
  and Yardi Matrix will make city and state trends crystal clear. Befor
 e you leave, you will know the best cities in the U.S. to invest in, a
 ccording to the analysis from the top Real Estate companies in the cou
 ntry.\nTOP 10 Cash Flow These areas are poised for strong rent growth,
  providing excellent cash flow in 2018 and beyond. TOP 10 Metros For F
 ix & Flip These hot areas are known for having a lot of cash buyers. O
 ne of the CA cities on this top 10 list was a big surprise.\nTOP 10 Ap
 preciation Metros If you are a buy and hold investor looking for price
  growth, check out these strong metros.\n-----------------------------
 ---------------------------------------- TONIGHT, December 13th 6:00 P
 M Pacific | 9:00 PM Eastern\nClick here to Register: https://multifami
 lyu.com/trends?ref=realty411\n----------------------------------------
 -----------------------------\nPLUS, NEAL GOES OUT ON A LIMB AND MAKES
  2 BOLD PREDICTIONS\nDiscover His Top California Pick (and 2 Honorable
  Mentions): Neal's top pick is a small affordable CA city with good ca
 sh flow and strong employment, while still being fairly affordable. It
  has been ranked one of the top performing small cities and probably h
 asn't even been on your radar, until now...\nThe Out-of-State Metro At
  The Very Beginning Of It's Run: This metro is one of the lowest cost 
 metros in the Pacific Northwest. You will frequently find it on \"best
  cities to live\" lists. Real estate owners enjoy low property tax rat
 es. It is also an up-and-coming city for college grads.\nAbout Our Pre
 senter:\nNeal Bawa is CEO at Grocapitus Investments, a commercial real
  estate investment company. Neal sources, negotiates and acquires comm
 ercial properties across the U.S. for 200+ investors. His current port
 folio contains over 1000 units, with a projection of at least 2000 uni
 ts in 12 months.\nNeal speaks at Multifamily events, IRA events & meet
 ups across the country. Nearly 2,000 students attend his multifamily s
 eminar series each year and hundreds attend his Magic of Multifamily b
 oot camps.\n\nFor more information visit https://realty411mag.com/even
 ts/2018-real-estate-trends-critical-updates-and-top-10-shootout
DTSTART;TZID=America/Los_Angeles:20181213T180000
DTEND;TZID=America/Los_Angeles:20181213T190000
CATEGORIES:online, webinar
LOCATION:https://multifamilyu.com/trends?ref=realty411&amp;campaign=tr
 ends-webinar-ad
WEBSITE:https://multifamilyu.com/trends?ref=realty411&amp;campaign=tre
 nds-webinar-ad
URL:https://multifamilyu.com/trends?ref=realty411&amp;campaign=trends-
 webinar-ad
CONTACT:
ORGANIZER;CN="Neal Bawa":https://realty411mag.com/profile/NealBawa
ATTACH;FMTTYPE="image/jpeg":https://storage.ning.com/topology/rest/1.0
 /file/get/346847818?profile=original
ATTENDEE;ROLE=REQ-PARTICIPANT;PARTSTAT=ACCEPTED;RSVP=TRUE;CN="Neal Baw
 a":https://realty411mag.com/profile/NealBawa
END:VEVENT
END:VCALENDAR
