BEGIN:VCALENDAR
PRODID:NingEventWidget-v1
VERSION:2.0
METHOD:PUBLISH
BEGIN:VTIMEZONE
TZID:America/Los_Angeles
X-LIC-LOCATION:America/Los_Angeles
BEGIN:DAYLIGHT
TZOFFSETFROM:-0800
TZOFFSETTO:-0700
TZNAME:PDT
DTSTART:19700308T020000
RRULE:FREQ=YEARLY;BYMONTH=3;BYDAY=2SU
END:DAYLIGHT
BEGIN:STANDARD
TZOFFSETFROM:-0700
TZOFFSETTO:-0800
TZNAME:PST
DTSTART:19701101T020000
RRULE:FREQ=YEARLY;BYMONTH=11;BYDAY=1SU
END:STANDARD
END:VTIMEZONE
BEGIN:VEVENT
UID:5727801:Event:60810
DTSTAMP:20260421T100915Z
SUMMARY:10 DECISIONS FOR REAL ESTATE INVESTORS TO MAKE BEFORE THE NEXT
  DOWNTURN
DESCRIPTION:Bruce Norris, long-time investor, builder, and hard money 
 lender is actively warning California real estate investors itâ€™s tim
 e to start planning. Discover how to spot key warning signs of a downt
 urn and the important actions you need to take as the market transitio
 ns.\n------------------------------------ Tuesday, June 11th | 12 PM P
 acific\nCLICK HERE TO REGISTER: https://multifamilyu.com/10-decisions?
 utm_campaign=10+decisions&utm_medium=social&utm_source=other&utm_conte
 nt=realty411&utm_term=post\n------------------------------------\nCanâ
 €™t attend live? No worries! Sign up and get the video replay via emai
 l.\nWHAT YOUâ€™LL LEARN\n- How to spot key warning signs and why Bruce
  feels weâ€™re in the 8th inning - Deciding what stays and goes in you
 r portfolio\n- Painful mistakes investors tend to make in this part of
  the cycle\n- The key team members youâ€™ll likely need in the next 12
  months\n- Misconceptions California investors export with them to oth
 er states\n- And how to plan for your best transition year ever\nMEET 
 YOUR PRESENTER: BRUCE NORRIS\nBRUCE NORRIS PRESIDENT, THE NORRIS GROUP
 \nBruce Norris is an active investor, hard money lender, and real esta
 te educator with over 35 years of experience. Bruce has been involved 
 in thousands of real estate transactions as a buyer, seller, builder, 
 and money partner. Bruce is best known for his long-term market timing
  trends including his â€śCalifornia Comebackâ€ť report in 1997 predict
 ing Californiaâ€™s real estate boom and his January 2006 release, â€śT
 he California Crash,â€ť predicting the foreclosure meltdown.\nYou can 
 catch him speaking and debating nationally as well as catching his awa
 rd-winning real estate radio show where he interviews world-renowned e
 conomists, government leaders, association presidents, and local exper
 ts. Bruce also hosts the series, I Survived Real Estate, which has rai
 sed over $860,000 for charity since the event launched in 2008. He was
  awarded the 2018 Educator of the Year by Think Realty.\n\nFor more in
 formation visit https://realty411mag.com/events/10-decisions-for-real-
 estate-investors-to-make-before-the-next
DTSTART;TZID=America/Los_Angeles:20190611T120000
DTEND;TZID=America/Los_Angeles:20190611T130000
CATEGORIES:online, webinar
LOCATION:https://multifamilyu.com/10-decisions?utm_campaign=10+decisio
 ns&amp;utm_medium=social&amp;utm_source=other&amp;utm_content=realty41
 1&amp;utm_term=post
WEBSITE:https://multifamilyu.com/10-decisions?utm_campaign=10+decision
 s&amp;utm_medium=social&amp;utm_source=other&amp;utm_content=realty411
 &amp;utm_term=post
URL:https://multifamilyu.com/10-decisions?utm_campaign=10+decisions&am
 p;utm_medium=social&amp;utm_source=other&amp;utm_content=realty411&amp
 ;utm_term=post
CONTACT:
ORGANIZER;CN="Neal Bawa":https://realty411mag.com/profile/NealBawa
ATTACH;FMTTYPE="image/jpeg":https://storage.ning.com/topology/rest/1.0
 /file/get/2760252324?profile=original
ATTENDEE;ROLE=REQ-PARTICIPANT;PARTSTAT=ACCEPTED;RSVP=TRUE;CN="Neal Baw
 a":https://realty411mag.com/profile/NealBawa
END:VEVENT
END:VCALENDAR
